Workbook

Sheet 概要
B1: 令和8年度
B2: 岐阜県高等学校新人大会ライフル射撃競技
B7: AR・APの部
C8: 期日 | D8: 令和8年10月17日（土）
C9: 会場 | D9: 岐阜県立関有知高校射撃場
C10: 使用標的 | D10: 電子標的
B14: BR・BPの部
C15: 期日 | D15: 令和8年10月18日（日）
C16: 会場 | D16: 済美高等学校射撃場

Sheet 表紙
B4: =概要!B1 -> 令和8年度
B5: =概要!B2 -> 岐阜県高等学校新人大会ライフル射撃競技
B6: =概要!A3 -> 0
C8: ＡR・APの部
D9: 期日 | E9: =概要!D8 -> 令和8年10月17日（土）
D10: 会場 | E10: 岐阜県立関有知高校射撃場
C12: ＢR・ＢＰの部
D13: 期日 | E13: =概要!D15 -> 令和8年10月18日（日）
D14: 会場 | E14: 済美高校射撃場
B18: 専門部長 | D18: 関谷 十糸子 | E18: （関有知高等学校長）
B21: 競技役員 | D21: 石徹白 悠平 | E21: （郡上北高等学校）
D22: 伊藤 幸照 | E22: （郡上北高等学校）
D23: 吉田 浩幸 | E23: （郡上北高等学校）
D24: 辻 祥平 | E24: （関有知高等学校）
D25: 澤頭 優汰 | E25: （関有知高等学校）
D26: 進藤 健 | E26: （済美高等学校）
D27: 水野 賢利 | E27: （鶯谷高等学校）
D28: 清水 寧 | E28: （大垣日本大学高等学校）
D30: 上野茂男 | E30: （岐阜県ライフル射撃協会）
D31: 西川祐 | E31: （岐阜県ライフル射撃協会）
D32: 竹地友南 | E32: （岐阜県ライフル射撃協会）
D33: 太田宗吉 | E33: （岐阜県ライフル射撃協会）
D34: 神鳥 哲 | E34: （岐阜県ライフル射撃協会）
C44: （総務） | D44: 石徹白 悠平 | E44: （郡上北高等学校（専門委員長））
B46: 補助員 | D46: 各高等学校射撃部生徒

Sheet 日程
B1: 10月17日（土） | D1: AR・APの部 日程
B3: 競技上の注意・連絡
B5: 競技時間
D7: AR | H7: AP
C8: 第1射群 | D8: (MW) | E8: 9:00～10:15
C9: 第2射群 | H9: (M) | I9: 11:00～12:15
C10: 第3射群
B11: 連絡・片付け
B13: 10月18日（日） | D13: BR・BPの部 日程
B15: 開会式（省略）
B17: 競技上の注意・連絡
B19: 競技時間 | C19: ※各射群の終了時刻により時間を繰り上げる場合がある
D21: BR | H21: BP
C22: 第1射群 | D22: （W） | E22: 9：00 ～ 9：45 | H22: （MW） | I22: 9：00 ～ 9：45
C23: 第2射群 | D23: （MW） | E23: 10：10 ～ 10：55 | H23: （MW） | I23: 10：10 ～ 10：55
C24: 第3射群 | D24: （MW） | E24: 11：20 ～ 12：05 | H24: （MW） | I24: 11：20 ～ 12：05
C25: 第4射群 | D25: （MW） | E25: 12：30 ～ 13：15 | H25: （MW） | I25: 12：30 ～ 13：15
C26: 第5射群 | D26: （MW） | E26: 13：40 ～ 14：25 | H26: （MW） | I26: 13：40 ～ 14：25
C27: 第6射群
C28: ※片づけ
B30: 表彰式・閉会式 | D30: 省略（表彰状は各校に渡します）
G34: この大会は「岐阜県補助事業」です

Sheet AR予選
C2: 岐阜県高校総体ライフル射撃競技 ARの部
C6: 46312 | D6: =WEEKDAY(C6) -> 7 | E6: 岐阜県立関有知高校射撃場
D8: 第1射群 | E8: 9:00～10:15
D9: 第2射群 | E9: 11：00～12:15
C12: 男子 | P12: エントリーリスト
A13: 通番 | B13: 射座 | C13: ID | D13: 氏 名 | E13: 学 校 | F13: 学年 | G13: 1 | H13: 2 | I13: 3 | J13: 4 | K13: 5 | L13: 6 | M13: 合 計 | N13: 順位 | P13: 学校 | Q13: ID | R13: 氏名 | S13: 学年
A14: 1 | B14: 1-6 | C14: =IF(D14="","",INDEX($Q$14:$Q$17,MATCH(テーブル2[[#This Row],[氏 名]],$R$14:$R$17,0))) -> 47034307 | D14: 井口 蒼太 | E14: =IF(テーブル2[[#This Row],[氏 名]]="","",INDEX($P$14:$P$17,MATCH(テーブル2[[#This Row],[氏 名]],$R$14:$R$17,0))) -> 済美 | F14: =IF(テーブル2[[#This Row],[氏 名]]="","",INDEX($S$14:$S$17,MATCH(テーブル2[[#This Row],[氏 名]],$R$14:$R$17,0))) -> 2 | G14: 101.7 | H14: 99.2 | I14: 101.1 | J14: 103.4 | K14: 104.1 | L14: 102.8 | M14: =IF(G14="","",SUM(G14:L14)) -> 612.3 | N14: =IF(M14="","",RANK(M14,$M$14:$M$17)) -> 1 | P14: 済美A | Q14: 44028964 | R14: 加藤 凜 | S14: 2 | T14: =P14&1 -> 済美A1
A15: 4 | B15: 1-9 | C15: =IF(D15="","",INDEX($Q$14:$Q$17,MATCH(テーブル2[[#This Row],[氏 名]],$R$14:$R$17,0))) -> 45030629 | D15: 田邉 陸玖 | E15: =IF(テーブル2[[#This Row],[氏 名]]="","",INDEX($P$14:$P$17,MATCH(テーブル2[[#This Row],[氏 名]],$R$14:$R$17,0))) -> 済美A | F15: =IF(テーブル2[[#This Row],[氏 名]]="","",INDEX($S$14:$S$17,MATCH(テーブル2[[#This Row],[氏 名]],$R$14:$R$17,0))) -> 2 | G15: 101.9 | H15: 99.2 | I15: 99.4 | J15: 102.3 | K15: 100.5 | L15: 98.5 | M15: =IF(G15="","",SUM(G15:L15)) -> 601.8 | N15: =IF(M15="","",RANK(M15,$M$14:$M$17)) -> 2 | P15: 済美A | Q15: 43028791 | R15: 福田 隆人 | S15: 2 | T15: =P15&2 -> 済美A2
A16: 3 | B16: 1-8 | C16: =IF(D16="","",INDEX($Q$14:$Q$17,MATCH(テーブル2[[#This Row],[氏 名]],$R$14:$R$17,0))) -> 44028964 | D16: 加藤 凜 | E16: =IF(テーブル2[[#This Row],[氏 名]]="","",INDEX($P$14:$P$17,MATCH(テーブル2[[#This Row],[氏 名]],$R$14:$R$17,0))) -> 済美A | F16: =IF(テーブル2[[#This Row],[氏 名]]="","",INDEX($S$14:$S$17,MATCH(テーブル2[[#This Row],[氏 名]],$R$14:$R$17,0))) -> 2 | G16: 99.9 | H16: 99.4 | I16: 97.9 | J16: 101.5 | K16: 102 | L16: 100.9 | M16: =IF(G16="","",SUM(G16:L16)) -> 601.6 | N16: =IF(M16="","",RANK(M16,$M$14:$M$17)) -> 3 | P16: 済美A | Q16: 45030629 | R16: 田邉 陸玖 | S16: 2 | T16: =P16&3 -> 済美A3
A17: 2 | B17: 1-7 | C17: =IF(D17="","",INDEX($Q$14:$Q$17,MATCH(テーブル2[[#This Row],[氏 名]],$R$14:$R$17,0))) -> 43028791 | D17: 福田 隆人 | E17: =IF(テーブル2[[#This Row],[氏 名]]="","",INDEX($P$14:$P$17,MATCH(テーブル2[[#This Row],[氏 名]],$R$14:$R$17,0))) -> 済美A | F17: =IF(テーブル2[[#This Row],[氏 名]]="","",INDEX($S$14:$S$17,MATCH(テーブル2[[#This Row],[氏 名]],$R$14:$R$17,0))) -> 2 | G17: 102.3 | H17: 97.5 | I17: 101.1 | J17: 97.1 | K17: 96.6 | L17: 98.3 | M17: =IF(G17="","",SUM(G17:L17)) -> 592.9 | N17: =IF(M17="","",RANK(M17,$M$14:$M$17)) -> 4 | P17: 済美 | Q17: 47034307 | R17: 井口 蒼太 | S17: 2 | T17: =P17&1 -> 済美1
C19: 女子 | P19: エントリーリスト
A20: 通番 | B20: 射座 | C20: ID | D20: 氏 名 | E20: 学 校 | F20: 学年 | G20: 1 | H20: 2 | I20: 3 | J20: 4 | K20: 5 | L20: 6 | M20: 合 計 | N20: 順位 | P20: 学校 | Q20: ID | R20: 氏名 | S20: 学年 | U20: 射座 | V20: 第１射群
A21: 1 | B21: 1-3 | C21: =IF(テーブル1[[#This Row],[氏 名]]="","",INDEX($Q$21:$Q$22,MATCH(テーブル1[[#This Row],[氏 名]],$R$21:$R$22,0))) -> 43028641 | D21: 浅野 海空 | E21: =IF(テーブル1[[#This Row],[氏 名]]="","",INDEX($P$21:$P$22,MATCH(テーブル1[[#This Row],[氏 名]],$R$21:$R$22,0))) -> 関有知 | F21: =IF(テーブル1[[#This Row],[氏 名]]="","",INDEX($S$21:$S$22,MATCH(テーブル1[[#This Row],[氏 名]],$R$21:$R$22,0))) -> 2 | G21: 103.7 | H21: 103.4 | I21: 101.9 | J21: 104.6 | K21: 104.8 | L21: 104.8 | M21: =IF(G21="","",SUM(G21:L21)) -> 623.2 | N21: =IF(M21="","",RANK(M21,$M$21:$M$22)) -> 1 | P21: 関有知 | Q21: 43028641 | R21: 浅野 海空 | S21: 2 | T21: =P21&1 -> 関有知1 | U21: 3 | V21: =INDEX($R$21:$R$22,_xlfn.RANK.EQ(W21,$W$21:$W$22)) -> 田中 玲衣 | W21: 0.68999436
A22: 2 | B22: 1-4 | C22: =IF(テーブル1[[#This Row],[氏 名]]="","",INDEX($Q$21:$Q$22,MATCH(テーブル1[[#This Row],[氏 名]],$R$21:$R$22,0))) -> 46033453 | D22: 田中 玲衣 | E22: =IF(テーブル1[[#This Row],[氏 名]]="","",INDEX($P$21:$P$22,MATCH(テーブル1[[#This Row],[氏 名]],$R$21:$R$22,0))) -> 済美 | F22: =IF(テーブル1[[#This Row],[氏 名]]="","",INDEX($S$21:$S$22,MATCH(テーブル1[[#This Row],[氏 名]],$R$21:$R$22,0))) -> 1 | G22: 91.6 | H22: 95.3 | I22: 87.5 | J22: 98.9 | K22: 99.4 | L22: 97.5 | M22: =IF(G22="","",SUM(G22:L22)) -> 570.2 | N22: =IF(M22="","",RANK(M22,$M$21:$M$22)) -> 2 | P22: 済美 | Q22: 46033453 | R22: 田中 玲衣 | S22: 1 | T22: =P22&1 -> 済美1 | U22: 4 | V22: =INDEX($R$21:$R$22,_xlfn.RANK.EQ(W22,$W$21:$W$22)) -> 浅野 海空 | W22: 0.9600209
P24: 鶯谷中 | Q24: 47034936 | R24: 細井 晴海 | S24: 中２

Sheet AP予選 
D1: 岐阜県高校総体ライフル射撃競技 APの部
C5: 46312 | D5: =WEEKDAY(C5) -> 7 | E5: 岐阜県立関有知高校射撃場
D7: 第1射群 | E7: 9:00～10:15
D8: 第2射群 | E8: 11：00～12:15
C11: 男子
A12: 通番 | B12: 射座 | C12: ID | D12: 氏 名 | E12: 学 校 | F12: 学年 | G12: 1 | H12: 2 | I12: 3 | J12: 4 | K12: 5 | L12: 6 | M12: 合 計 | N12: X | O12: 順位
A13: 1 | B13: 2-3 | C13: 45031949 | D13: 徳田 恭実 | E13: 済美A | F13: 2 | G13: DNS | M13: =IF(G13="","",SUM(G13:L13)) -> 0 | O13: =IF(M13="","",RANK(M13,$M$13:$M$14,0)) -> 1
A14: 2 | B14: 2-4 | C14: 45030629 | D14: 田邉陸玖 | E14: 済美A | F14: 2 | G14: DNS | M14: =IF(G14="","",SUM(G14:L14)) -> 0 | O14: =IF(M14="","",RANK(M14,$M$13:$M$14,0)) -> 1
C16: 女子（オープン参加）
A17: 通番 | B17: 射座 | C17: ID | D17: 氏 名 | E17: 学 校 | F17: 学年 | G17: 1 | H17: 2 | I17: 3 | J17: 4 | K17: 5 | L17: 6 | M17: 合 計 | N17: X | O17: 順位
A21: 通番 | B21: 射座 | C21: ID | D21: 氏 名 | E21: 所属 | F21: 学年 | G21: 1 | H21: 2 | I21: 3 | J21: 4 | K21: 5 | L21: 6 | M21: 合 計 | N21: X | O21: 順位

Sheet BR予選
C1: 岐阜県高校総体ライフル射撃競技 BRの部
C5: 46313 | D5: =WEEKDAY(C5) -> 1 | E5: 済美高等学校射撃場
D7: 第1射群 | E7: 9：00～ 9：45 | H7: 第4射群 | J7: 12：30 ～ 13：15
D8: 第2射群 | E8: 10：10 ～ 10：55 | H8: 第5射群 | J8: 13：40 ～ 14：25
D9: 第3射群 | E9: 11：20 ～ 12：05
D11: 男子 | P11: エントリーリスト | AC11: BP
A12: 通番 | B12: 射座 | C12: ID | D12: 氏 名 | E12: 学 校 | F12: 学年 | G12: 1 | H12: 2 | I12: 3 | J12: 4 | K12: 5 | L12: 6 | M12: 合 計 | N12: 順位 | O12: X | P12: 学校 | Q12: ID | R12: 氏名 | S12: 学年 | V12: 射座 | W12: 第１射群 | X12: 第2射群 | Y12: 第３射群 | Z12: 第４射群 | AA12: 第５射群
A13: 3 | B13: 2-4 | C13: =IF(テーブル3[[#This Row],[氏 名]]="","",INDEX($Q$13:$Q$28,MATCH(テーブル3[[#This Row],[氏 名]],$R$13:$R$28,0))) -> 44028964 | D13: 加藤 凜 | E13: =IF(テーブル3[[#This Row],[氏 名]]="","",INDEX($P$13:$P$28,MATCH(D13,$R$13:$R$28,0))) -> 済美A | F13: =IF(テーブル3[[#This Row],[氏 名]]="","",INDEX($S$13:$S$28,MATCH(D13,$R$13:$R$28,0))) -> 2 | G13: 104.4 | H13: 103.5 | I13: 105.1 | J13: 103.7 | K13: 105.7 | L13: 104.8 | M13: =IF(G13="","",SUM(G13:L13)) -> 627.2 | N13: =IF(M13="","",RANK(M13,$M$13:$M$28)) -> 1 | O13: 25 | P13: 鶯谷 | Q13: 47034317 | R13: 小竹 莞太郎 | S13: 2 | T13: =P13&1 -> 鶯谷1 | V13: 1
A14: 1 | B14: 2-2 | C14: =IF(テーブル3[[#This Row],[氏 名]]="","",INDEX($Q$13:$Q$28,MATCH(テーブル3[[#This Row],[氏 名]],$R$13:$R$28,0))) -> 47034307 | D14: 井口 蒼太 | E14: =IF(テーブル3[[#This Row],[氏 名]]="","",INDEX($P$13:$P$28,MATCH(D14,$R$13:$R$28,0))) -> 済美A | F14: =IF(テーブル3[[#This Row],[氏 名]]="","",INDEX($S$13:$S$28,MATCH(D14,$R$13:$R$28,0))) -> 2 | G14: 103.7 | H14: 103.6 | I14: 103.5 | J14: 102.4 | K14: 104.9 | L14: 103.8 | M14: =IF(G14="","",SUM(G14:L14)) -> 621.9 | N14: =IF(M14="","",RANK(M14,$M$13:$M$28)) -> 2 | O14: 18 | P14: 関有知A | Q14: 47034305 | R14: 春日井 月暉 | S14: 2 | T14: =P14&2 -> 関有知A2 | V14: 2 | X14: =INDEX($R$13:$R$28,_xlfn.RANK.EQ(X21,$W$21:$AA$25,1)) -> 井口 蒼太 | Y14: =INDEX($R$13:$R$28,_xlfn.RANK.EQ(Y21,$W$21:$AA$25,1)) -> 福田 隆人 | Z14: =INDEX($R$13:$R$28,_xlfn.RANK.EQ(Z21,$W$21:$AA$25,1)) -> 永澤 京誠 | AA14: =INDEX($R$13:$R$28,_xlfn.RANK.EQ(AA21,$W$21:$AA$25,1)) -> 辻 照永
A15: 2 | B15: 2-3 | C15: =IF(テーブル3[[#This Row],[氏 名]]="","",INDEX($Q$13:$Q$28,MATCH(テーブル3[[#This Row],[氏 名]],$R$13:$R$28,0))) -> 47034305 | D15: 春日井 月暉 | E15: =IF(テーブル3[[#This Row],[氏 名]]="","",INDEX($P$13:$P$28,MATCH(D15,$R$13:$R$28,0))) -> 関有知A | F15: =IF(テーブル3[[#This Row],[氏 名]]="","",INDEX($S$13:$S$28,MATCH(D15,$R$13:$R$28,0))) -> 2 | G15: 104 | H15: 103.4 | I15: 103.2 | J15: 102.8 | K15: 103.2 | L15: 104.3 | M15: =IF(G15="","",SUM(G15:L15)) -> 620.9 | N15: =IF(M15="","",RANK(M15,$M$13:$M$28)) -> 3 | O15: 19 | P15: 関有知A | Q15: 47034300 | R15: 永澤 京誠 | S15: 2 | T15: =P15&3 -> 関有知A3 | V15: 3 | X15: =INDEX($R$13:$R$28,_xlfn.RANK.EQ(X22,$W$21:$AA$25,1)) -> 春日井 月暉 | Y15: =INDEX($R$13:$R$28,_xlfn.RANK.EQ(Y22,$W$21:$AA$25,1)) -> 宇佐美 慶 | Z15: =INDEX($R$13:$R$28,_xlfn.RANK.EQ(Z22,$W$21:$AA$25,1)) -> 森嶋 礼真 | AA15: =INDEX($R$13:$R$28,_xlfn.RANK.EQ(AA22,$W$21:$AA$25,1)) -> 日比野 優真
A16: 14 | B16: 5-3 | C16: =IF(テーブル3[[#This Row],[氏 名]]="","",INDEX($Q$13:$Q$28,MATCH(テーブル3[[#This Row],[氏 名]],$R$13:$R$28,0))) -> 45030629 | D16: 田邉 陸玖 | E16: =IF(テーブル3[[#This Row],[氏 名]]="","",INDEX($P$13:$P$28,MATCH(D16,$R$13:$R$28,0))) -> 済美A | F16: =IF(テーブル3[[#This Row],[氏 名]]="","",INDEX($S$13:$S$28,MATCH(D16,$R$13:$R$28,0))) -> 2 | G16: 105.2 | H16: 101 | I16: 103.2 | J16: 104.4 | K16: 104.4 | L16: 102.5 | M16: =IF(G16="","",SUM(G16:L16)) -> 620.7 | N16: =IF(M16="","",RANK(M16,$M$13:$M$28)) -> 4 | O16: 21 | P16: 関有知A | Q16: 50037235 | R16: 澤村 実槻 | S16: 1 | T16: =P16&1 -> 関有知A1 | U16: A | V16: 4 | X16: =INDEX($R$13:$R$28,_xlfn.RANK.EQ(X23,$W$21:$AA$25,1)) -> 岩本 武士 | Y16: =INDEX($R$13:$R$28,_xlfn.RANK.EQ(Y23,$W$21:$AA$25,1)) -> 田邉 陸玖 | Z16: =INDEX($R$13:$R$28,_xlfn.RANK.EQ(Z23,$W$21:$AA$25,1)) -> 加藤 凜 | AA16: =INDEX($R$13:$R$28,_xlfn.RANK.EQ(AA23,$W$21:$AA$25,1)) -> 澤村 実槻
A17: 5 | B17: 3-2 | C17: =IF(テーブル3[[#This Row],[氏 名]]="","",INDEX($Q$13:$Q$28,MATCH(テーブル3[[#This Row],[氏 名]],$R$13:$R$28,0))) -> 43028791 | D17: 福田 隆人 | E17: =IF(テーブル3[[#This Row],[氏 名]]="","",INDEX($P$13:$P$28,MATCH(D17,$R$13:$R$28,0))) -> 済美B | F17: =IF(テーブル3[[#This Row],[氏 名]]="","",INDEX($S$13:$S$28,MATCH(D17,$R$13:$R$28,0))) -> 2 | G17: 104.9 | H17: 102.9 | I17: 101.9 | J17: 103.1 | K17: 101.3 | L17: 104.4 | M17: =IF(G17="","",SUM(G17:L17)) -> 618.5 | N17: =IF(M17="","",RANK(M17,$M$13:$M$28)) -> 5 | O17: 16 | P17: 関有知B | Q17: 50037421 | R17: 平田 リュウ | S17: 1 | T17: =P17&2 -> 関有知B2 | U17: B | V17: 5 | X17: =INDEX($R$13:$R$28,_xlfn.RANK.EQ(X24,$W$21:$AA$25,1)) -> 平田 リュウ | Y17: =INDEX($R$13:$R$28,_xlfn.RANK.EQ(Y24,$W$21:$AA$25,1)) -> 玉木 心晴 | Z17: =INDEX($R$13:$R$28,_xlfn.RANK.EQ(Z24,$W$21:$AA$25,1)) -> 小竹 莞太郎 | AA17: =INDEX($R$13:$R$28,_xlfn.RANK.EQ(AA24,$W$21:$AA$25,1)) -> 曽我 健人
A18: 9 | B18: 4-2 | C18: =IF(テーブル3[[#This Row],[氏 名]]="","",INDEX($Q$13:$Q$28,MATCH(テーブル3[[#This Row],[氏 名]],$R$13:$R$28,0))) -> 47034300 | D18: 永澤 京誠 | E18: =IF(テーブル3[[#This Row],[氏 名]]="","",INDEX($P$13:$P$28,MATCH(D18,$R$13:$R$28,0))) -> 関有知A | F18: =IF(テーブル3[[#This Row],[氏 名]]="","",INDEX($S$13:$S$28,MATCH(D18,$R$13:$R$28,0))) -> 2 | G18: 97.9 | H18: 99.6 | I18: 101.5 | J18: 102.5 | K18: 103.2 | L18: 101.3 | M18: =IF(G18="","",SUM(G18:L18)) -> 606 | N18: =IF(M18="","",RANK(M18,$M$13:$M$28)) -> 6 | O18: 9 | P18: 関有知B | Q18: 50037587 | R18: 辻 照永 | S18: 1 | T18: =P18&3 -> 関有知B3 | U18: B
A19: 8 | B19: 3-5 | C19: =IF(テーブル3[[#This Row],[氏 名]]="","",INDEX($Q$13:$Q$28,MATCH(テーブル3[[#This Row],[氏 名]],$R$13:$R$28,0))) -> 50036216 | D19: 玉木 心晴 | E19: =IF(テーブル3[[#This Row],[氏 名]]="","",INDEX($P$13:$P$28,MATCH(D19,$R$13:$R$28,0))) -> 済美B | F19: =IF(テーブル3[[#This Row],[氏 名]]="","",INDEX($S$13:$S$28,MATCH(D19,$R$13:$R$28,0))) -> 1 | G19: 102 | H19: 102.1 | I19: 102.1 | J19: 100.2 | K19: 99.9 | L19: 99.1 | M19: =IF(G19="","",SUM(G19:L19)) -> 605.4 | N19: =IF(M19="","",RANK(M19,$M$13:$M$28)) -> 7 | O19: 5 | P19: 関有知B | Q19: 申請中 | R19: 岩本 武士 | S19: 1 | T19: =P19&1 -> 関有知B1 | U19: b
A20: 10 | B20: 4-3 | C20: =IF(テーブル3[[#This Row],[氏 名]]="","",INDEX($Q$13:$Q$28,MATCH(テーブル3[[#This Row],[氏 名]],$R$13:$R$28,0))) -> 47034309 | D20: 森嶋 礼真 | E20: =IF(テーブル3[[#This Row],[氏 名]]="","",INDEX($P$13:$P$28,MATCH(D20,$R$13:$R$28,0))) -> 済美B | F20: =IF(テーブル3[[#This Row],[氏 名]]="","",INDEX($S$13:$S$28,MATCH(D20,$R$13:$R$28,0))) -> 2 | G20: 99.2 | H20: 99.9 | I20: 100.4 | J20: 101.6 | K20: 101.3 | L20: 102.6 | M20: =IF(G20="","",SUM(G20:L20)) -> 605 | N20: =IF(M20="","",RANK(M20,$M$13:$M$28)) -> 8 | O20: 8 | P20: 関有知 | Q20: 50037234 | R20: 日比野 優真 | S20: 1 | T20: =P20&2 -> 関有知2 | U20: A
A21: 12 | B21: 4-5 | C21: =IF(テーブル3[[#This Row],[氏 名]]="","",INDEX($Q$13:$Q$28,MATCH(テーブル3[[#This Row],[氏 名]],$R$13:$R$28,0))) -> 47034317 | D21: 小竹 莞太郎 | E21: =IF(テーブル3[[#This Row],[氏 名]]="","",INDEX($P$13:$P$28,MATCH(D21,$R$13:$R$28,0))) -> 鶯谷 | F21: =IF(テーブル3[[#This Row],[氏 名]]="","",INDEX($S$13:$S$28,MATCH(D21,$R$13:$R$28,0))) -> 2 | G21: 101.1 | H21: 99 | I21: 97.9 | J21: 98.8 | K21: 97.3 | L21: 99.4 | M21: =IF(G21="","",SUM(G21:L21)) -> 593.5 | N21: =IF(M21="","",RANK(M21,$M$13:$M$28)) -> 9 | O21: 6 | P21: 郡上北 | Q21: 50037128 | R21: 宇佐美 慶 | S21: 1 | T21: =P21&1 -> 郡上北1 | X21: 0.7933444 | Y21: 0.81312534 | Z21: 0.23632717 | AA21: 0.29799638
A22: 16 | B22: 5-5 | C22: =IF(テーブル3[[#This Row],[氏 名]]="","",INDEX($Q$13:$Q$28,MATCH(テーブル3[[#This Row],[氏 名]],$R$13:$R$28,0))) -> 50037243 | D22: 曽我 健人 | E22: =IF(テーブル3[[#This Row],[氏 名]]="","",INDEX($P$13:$P$28,MATCH(D22,$R$13:$R$28,0))) -> 郡上北 | F22: =IF(テーブル3[[#This Row],[氏 名]]="","",INDEX($S$13:$S$28,MATCH(D22,$R$13:$R$28,0))) -> 1 | G22: 93.1 | H22: 94.8 | I22: 98.9 | J22: 99.6 | K22: 99.6 | L22: 97.6 | M22: =IF(G22="","",SUM(G22:L22)) -> 583.6 | N22: =IF(M22="","",RANK(M22,$M$13:$M$28)) -> 10 | O22: 5 | P22: 郡上北 | Q22: 50037243 | R22: 曽我 健人 | S22: 1 | T22: =P22&1 -> 郡上北1 | X22: 0.23572023 | Y22: 0.47008365 | Z22: 0.86143704 | AA22: 0.40742153
A23: 4 | B23: 2-5 | C23: =IF(テーブル3[[#This Row],[氏 名]]="","",INDEX($Q$13:$Q$28,MATCH(テーブル3[[#This Row],[氏 名]],$R$13:$R$28,0))) -> 50037421 | D23: 平田 リュウ | E23: =IF(テーブル3[[#This Row],[氏 名]]="","",INDEX($P$13:$P$28,MATCH(D23,$R$13:$R$28,0))) -> 関有知B | F23: =IF(テーブル3[[#This Row],[氏 名]]="","",INDEX($S$13:$S$28,MATCH(D23,$R$13:$R$28,0))) -> 1 | G23: 92.9 | H23: 94.8 | I23: 98.6 | J23: 94 | K23: 95.6 | L23: 99 | M23: =IF(G23="","",SUM(G23:L23)) -> 574.9 | N23: =IF(M23="","",RANK(M23,$M$13:$M$28)) -> 11 | O23: 6 | P23: 済美A | Q23: 44028964 | R23: 加藤 凜 | S23: 2 | T23: =P23&2 -> 済美A2 | X23: 0.3313409 | Y23: 0.72603566 | Z23: 0.63123861 | AA23: 0.24778975
A24: 11 | B24: 4-4 | C24: =IF(テーブル3[[#This Row],[氏 名]]="","",INDEX($Q$13:$Q$28,MATCH(テーブル3[[#This Row],[氏 名]],$R$13:$R$28,0))) -> 50037587 | D24: 辻 照永 | E24: =IF(テーブル3[[#This Row],[氏 名]]="","",INDEX($P$13:$P$28,MATCH(D24,$R$13:$R$28,0))) -> 関有知B | F24: =IF(テーブル3[[#This Row],[氏 名]]="","",INDEX($S$13:$S$28,MATCH(D24,$R$13:$R$28,0))) -> 1 | G24: 93.8 | H24: 92.5 | I24: 96 | J24: 90 | K24: 98.9 | L24: 99 | M24: =IF(G24="","",SUM(G24:L24)) -> 570.2 | N24: =IF(M24="","",RANK(M24,$M$13:$M$28)) -> 12 | O24: 8 | P24: 済美A | Q24: 45030629 | R24: 田邉 陸玖 | S24: 2 | T24: =P24&3 -> 済美A3 | U24: BP | X24: 0.26751192 | Y24: 0.97282632 | Z24: 0.096162913 | AA24: 0.60394332
A25: 6 | B25: 3-3 | C25: =IF(テーブル3[[#This Row],[氏 名]]="","",INDEX($Q$13:$Q$28,MATCH(テーブル3[[#This Row],[氏 名]],$R$13:$R$28,0))) -> 50037128 | D25: 宇佐美 慶 | E25: =IF(テーブル3[[#This Row],[氏 名]]="","",INDEX($P$13:$P$28,MATCH(D25,$R$13:$R$28,0))) -> 郡上北 | F25: =IF(テーブル3[[#This Row],[氏 名]]="","",INDEX($S$13:$S$28,MATCH(D25,$R$13:$R$28,0))) -> 1 | G25: 92.2 | H25: 95.2 | I25: 96.5 | J25: 92.6 | K25: 93.4 | L25: 98.2 | M25: =IF(G25="","",SUM(G25:L25)) -> 568.1 | N25: =IF(M25="","",RANK(M25,$M$13:$M$28)) -> 13 | O25: 0 | P25: 済美A | Q25: 47034307 | R25: 井口 蒼太 | S25: 2 | T25: =P25&1 -> 済美A1
A26: 15 | B26: 5-4 | C26: =IF(テーブル3[[#This Row],[氏 名]]="","",INDEX($Q$13:$Q$28,MATCH(テーブル3[[#This Row],[氏 名]],$R$13:$R$28,0))) -> 50037235 | D26: 澤村 実槻 | E26: =IF(テーブル3[[#This Row],[氏 名]]="","",INDEX($P$13:$P$28,MATCH(D26,$R$13:$R$28,0))) -> 関有知A | F26: =IF(テーブル3[[#This Row],[氏 名]]="","",INDEX($S$13:$S$28,MATCH(D26,$R$13:$R$28,0))) -> 1 | G26: 86.7 | H26: 95.4 | I26: 90.7 | J26: 94.6 | K26: 92 | L26: 96 | M26: =IF(G26="","",SUM(G26:L26)) -> 555.4 | N26: =IF(M26="","",RANK(M26,$M$13:$M$28)) -> 14 | O26: 1 | P26: 済美B | Q26: 43028791 | R26: 福田 隆人 | S26: 2 | T26: =P26&2 -> 済美B2
A27: 7 | B27: 3-4 | C27: =IF(テーブル3[[#This Row],[氏 名]]="","",INDEX($Q$13:$Q$28,MATCH(テーブル3[[#This Row],[氏 名]],$R$13:$R$28,0))) -> 50037234 | D27: 日比野 優真 | E27: =IF(テーブル3[[#This Row],[氏 名]]="","",INDEX($P$13:$P$28,MATCH(D27,$R$13:$R$28,0))) -> 関有知 | F27: =IF(テーブル3[[#This Row],[氏 名]]="","",INDEX($S$13:$S$28,MATCH(D27,$R$13:$R$28,0))) -> 1 | G27: 87.5 | H27: 90.2 | I27: 96.3 | J27: 97.9 | K27: 89 | L27: 87.6 | M27: =IF(G27="","",SUM(G27:L27)) -> 548.5 | N27: =IF(M27="","",RANK(M27,$M$13:$M$28)) -> 15 | O27: 6 | P27: 済美B | Q27: 47034309 | R27: 森嶋 礼真 | S27: 2 | T27: =P27&3 -> 済美B3
A28: 13 | B28: 5-2 | C28: =IF(テーブル3[[#This Row],[氏 名]]="","",INDEX($Q$13:$Q$28,MATCH(テーブル3[[#This Row],[氏 名]],$R$13:$R$28,0))) -> 申請中 | D28: 岩本 武士 | E28: =IF(テーブル3[[#This Row],[氏 名]]="","",INDEX($P$13:$P$28,MATCH(D28,$R$13:$R$28,0))) -> 関有知B | F28: =IF(テーブル3[[#This Row],[氏 名]]="","",INDEX($S$13:$S$28,MATCH(D28,$R$13:$R$28,0))) -> 1 | G28: DNS | M28: =IF(G28="","",SUM(G28:L28)) -> 0 | N28: =IF(M28="","",RANK(M28,$M$13:$M$28)) -> 16 | P28: 済美B | Q28: 50036216 | R28: 玉木 心晴 | S28: 1 | T28: =P28&1 -> 済美B1
D30: 女子 | P30: エントリーリスト
A31: 通番 | B31: 射座 | C31: ID | D31: 氏 名 | E31: 学 校 | F31: 学年 | G31: 1 | H31: 2 | I31: 3 | J31: 4 | K31: 5 | L31: 6 | M31: 合 計 | N31: 順位 | O31: X | P31: 学校 | Q31: ID | R31: 氏名 | S31: 学年 | V31: 射座 | W31: 第１射群 | X31: 第2射群 | Y31: 第３射群 | Z31: 第４射群 | AA31: 第５射群
A32: 17 | B32: 4-6 | C32: =IF(テーブル5[[#This Row],[氏 名]]="","",INDEX($Q$32:$Q$50,MATCH(D32,$R$32:$R$50,0))) -> 47034310 | D32: 河出 菜欧美 | E32: =IF(テーブル5[[#This Row],[氏 名]]="","",INDEX($P$32:$P$50,MATCH(D32,$R$32:$R$50,0))) -> 済美A | F32: =IF(テーブル5[[#This Row],[氏 名]]="","",INDEX($S$32:$S$50,MATCH(D32,$R$32:$R$50,0))) -> 2 | G32: 100.8 | H32: 103.1 | I32: 102.7 | J32: 101.1 | K32: 104.6 | L32: 104.2 | M32: =IF(G32="","",SUM(G32:L32)) -> 616.5 | N32: =IF(M32="","",RANK(M32,$M$32:$M$52)) -> 1 | O32: 14 | P32: 鶯谷A | Q32: 50036115 | R32: 松丸 葵 | S32: 1 | T32: =P32&1 -> 鶯谷A1 | V32: 2 | W32: =INDEX($R$32:$R$50,_xlfn.RANK.EQ(W44,$W$44:$Z$51,0)) -> 伊藤 碧音
A33: 4 | B33: 1-5 | C33: =IF(テーブル5[[#This Row],[氏 名]]="","",INDEX($Q$32:$Q$50,MATCH(D33,$R$32:$R$50,0))) -> 46033453 | D33: 田中 玲衣 | E33: =IF(テーブル5[[#This Row],[氏 名]]="","",INDEX($P$32:$P$50,MATCH(D33,$R$32:$R$50,0))) -> 済美A | F33: =IF(テーブル5[[#This Row],[氏 名]]="","",INDEX($S$32:$S$50,MATCH(D33,$R$32:$R$50,0))) -> 1 | G33: 102.6 | H33: 100.1 | I33: 103.3 | J33: 103.4 | K33: 102.6 | L33: 102.9 | M33: =IF(G33="","",SUM(G33:L33)) -> 614.9 | N33: =IF(M33="","",RANK(M33,$M$32:$M$52)) -> 2 | O33: 14 | P33: 鶯谷A | Q33: 申請中 | R33: 澤田 茉利 | S33: 1 | T33: =P33&2 -> 鶯谷A2 | V33: 3 | W33: =INDEX($R$32:$R$50,_xlfn.RANK.EQ(W45,$W$44:$Z$51,0)) -> 宮﨑 波
A34: 3 | B34: 1-3 | C34: =IF(テーブル5[[#This Row],[氏 名]]="","",INDEX($Q$32:$Q$50,MATCH(D34,$R$32:$R$50,0))) -> 50036212 | D34: 杉山 碧依 | E34: =IF(テーブル5[[#This Row],[氏 名]]="","",INDEX($P$32:$P$50,MATCH(D34,$R$32:$R$50,0))) -> 済美A | F34: =IF(テーブル5[[#This Row],[氏 名]]="","",INDEX($S$32:$S$50,MATCH(D34,$R$32:$R$50,0))) -> 1 | G34: 102.3 | H34: 100 | I34: 102.3 | J34: 101 | K34: 101.1 | L34: 102.8 | M34: =IF(G34="","",SUM(G34:L34)) -> 609.5 | N34: =IF(M34="","",RANK(M34,$M$32:$M$52)) -> 3 | O34: 5 | P34: 鶯谷A | Q34: 申請中 | R34: 安藤 凛 | S34: 1 | T34: =P34&3 -> 鶯谷A3 | V34: 4 | W34: =INDEX($R$32:$R$50,_xlfn.RANK.EQ(W46,$W$44:$Z$51,0)) -> 杉山 碧依
A35: 14 | B35: 3-7 | C35: =IF(テーブル5[[#This Row],[氏 名]]="","",INDEX($Q$32:$Q$50,MATCH(D35,$R$32:$R$50,0))) -> 50036015 | D35: 梶川 結妃 | E35: =IF(テーブル5[[#This Row],[氏 名]]="","",INDEX($P$32:$P$50,MATCH(D35,$R$32:$R$50,0))) -> 済美B | F35: =IF(テーブル5[[#This Row],[氏 名]]="","",INDEX($S$32:$S$50,MATCH(D35,$R$32:$R$50,0))) -> 1 | G35: 100.3 | H35: 101.1 | I35: 103.2 | J35: 101 | K35: 99.3 | L35: 103.2 | M35: =IF(G35="","",SUM(G35:L35)) -> 608.1 | N35: =IF(M35="","",RANK(M35,$M$32:$M$52)) -> 4 | O35: 6 | P35: 関有知A | Q35: 50037237 | R35: 吉田 実咲希 | S35: 1 | T35: =P35&1 -> 関有知A1 | U35: a | V35: 5 | W35: =INDEX($R$32:$R$50,_xlfn.RANK.EQ(W47,$W$44:$Z$51,0)) -> 押田 雪那
A36: 12 | B36: 2-6 | C36: =IF(テーブル5[[#This Row],[氏 名]]="","",INDEX($Q$32:$Q$50,MATCH(D36,$R$32:$R$50,0))) -> 申請中 | D36: 杉下 百花 | E36: =IF(テーブル5[[#This Row],[氏 名]]="","",INDEX($P$32:$P$50,MATCH(D36,$R$32:$R$50,0))) -> 済美B | F36: =IF(テーブル5[[#This Row],[氏 名]]="","",INDEX($S$32:$S$50,MATCH(D36,$R$32:$R$50,0))) -> 1 | G36: 101.8 | H36: 100.5 | I36: 101.4 | J36: 99.8 | K36: 98.7 | L36: 102.8 | M36: =IF(G36="","",SUM(G36:L36)) -> 605 | N36: =IF(M36="","",RANK(M36,$M$32:$M$52)) -> 5 | O36: 11 | P36: 関有知A | Q36: 50037409 | R36: 後藤 小日芽 | S36: 1 | T36: =P36&2 -> 関有知A2 | U36: a | V36: 6 | W36: =INDEX($R$32:$R$50,_xlfn.RANK.EQ(W48,$W$44:$Z$51,0)) -> 松丸 葵 | X36: =INDEX($R$32:$R$50,_xlfn.RANK.EQ(X48,$W$44:$Z$51,0)) -> 後藤 小日芽 | Y36: =INDEX($R$32:$R$50,_xlfn.RANK.EQ(Y48,$W$44:$Z$51,0)) -> 角 律希 | Z36: =INDEX($R$32:$R$50,_xlfn.RANK.EQ(Z48,$W$44:$Z$51,0)) -> 河出 菜欧美
A37: 8 | B37: 1-9 | C37: =IF(テーブル5[[#This Row],[氏 名]]="","",INDEX($Q$32:$Q$50,MATCH(D37,$R$32:$R$50,0))) -> 50036229 | D37: 木田 裕乃 | E37: =IF(テーブル5[[#This Row],[氏 名]]="","",INDEX($P$32:$P$50,MATCH(D37,$R$32:$R$50,0))) -> 済美B | F37: =IF(テーブル5[[#This Row],[氏 名]]="","",INDEX($S$32:$S$50,MATCH(D37,$R$32:$R$50,0))) -> 1 | G37: 101 | H37: 98.6 | I37: 103.4 | J37: 100.1 | K37: 98 | L37: 102.4 | M37: =IF(G37="","",SUM(G37:L37)) -> 603.5 | N37: =IF(M37="","",RANK(M37,$M$32:$M$52)) -> 6 | O37: 9 | P37: 関有知A | Q37: 50037585 | R37: 押田 雪那 | S37: 1 | T37: =P37&3 -> 関有知A3 | U37: b | V37: 7 | W37: =INDEX($R$32:$R$50,_xlfn.RANK.EQ(W49,$W$44:$Z$51,0)) -> 山田 千結 | X37: =INDEX($R$32:$R$50,_xlfn.RANK.EQ(X49,$W$44:$Z$51,0)) -> 小川 桜空 | Y37: =INDEX($R$32:$R$50,_xlfn.RANK.EQ(Y49,$W$44:$Z$51,0)) -> 梶川 結妃 | Z37: =INDEX($R$32:$R$50,_xlfn.RANK.EQ(Z49,$W$44:$Z$51,0)) -> 吉田 実咲希
A38: 6 | B38: 1-7 | C38: =IF(テーブル5[[#This Row],[氏 名]]="","",INDEX($Q$32:$Q$50,MATCH(D38,$R$32:$R$50,0))) -> 50037237 | D38: 吉田 実咲希 | E38: =IF(テーブル5[[#This Row],[氏 名]]="","",INDEX($P$32:$P$50,MATCH(D38,$R$32:$R$50,0))) -> 関有知A | F38: =IF(テーブル5[[#This Row],[氏 名]]="","",INDEX($S$32:$S$50,MATCH(D38,$R$32:$R$50,0))) -> 1 | G38: 101.1 | H38: 100.6 | I38: 97.4 | J38: 103.4 | K38: 96.1 | L38: 101.8 | M38: =IF(G38="","",SUM(G38:L38)) -> 600.4 | N38: =IF(M38="","",RANK(M38,$M$32:$M$52)) -> 7 | O38: 6 | P38: 関有知 | Q38: 50037258 | R38: 宮﨑 波 | S38: 1 | T38: =P38&1 -> 関有知1 | U38: b | V38: 8 | W38: =INDEX($R$32:$R$50,_xlfn.RANK.EQ(W50,$W$44:$Z$51,0)) -> 丁左近 華奈 | X38: =INDEX($R$32:$R$50,_xlfn.RANK.EQ(X50,$W$44:$Z$51,0)) -> 安藤 凛 | Y38: =INDEX($R$32:$R$50,_xlfn.RANK.EQ(Y50,$W$44:$Z$51,0)) -> 田中 玲衣 | Z38: =INDEX($R$32:$R$50,_xlfn.RANK.EQ(Z50,$W$44:$Z$51,0)) -> 大野 愛季
A39: 19 | B39: 4-7 | C39: =IF(テーブル5[[#This Row],[氏 名]]="","",INDEX($Q$32:$Q$50,MATCH(D39,$R$32:$R$50,0))) -> 47034312 | D39: 大野 愛季 | E39: =IF(テーブル5[[#This Row],[氏 名]]="","",INDEX($P$32:$P$50,MATCH(D39,$R$32:$R$50,0))) -> 済美 | F39: =IF(テーブル5[[#This Row],[氏 名]]="","",INDEX($S$32:$S$50,MATCH(D39,$R$32:$R$50,0))) -> 2 | G39: 100 | H39: 101.3 | I39: 99.4 | J39: 99.1 | K39: 101.1 | L39: 98.3 | M39: =IF(G39="","",SUM(G39:L39)) -> 599.2 | N39: =IF(M39="","",RANK(M39,$M$32:$M$52)) -> 8 | O39: 6 | P39: 済美A | Q39: 47034310 | R39: 河出 菜欧美 | S39: 2 | T39: =P39&1 -> 済美A1 | V39: 9 | W39: =INDEX($R$32:$R$50,_xlfn.RANK.EQ(W51,$W$44:$Z$51,0)) -> 木田 裕乃 | X39: =INDEX($R$32:$R$50,_xlfn.RANK.EQ(X51,$W$44:$Z$51,0)) -> 杉下 百花 | Y39: =INDEX($R$32:$R$50,_xlfn.RANK.EQ(Y51,$W$44:$Z$51,0)) -> 澤田 茉利
A40: 13 | B40: 4-8 | C40: =IF(テーブル5[[#This Row],[氏 名]]="","",INDEX($Q$32:$Q$50,MATCH(D40,$R$32:$R$50,0))) -> 47034331 | D40: 角 律希 | E40: =IF(テーブル5[[#This Row],[氏 名]]="","",INDEX($P$32:$P$50,MATCH(D40,$R$32:$R$50,0))) -> 大垣日大A | F40: =IF(テーブル5[[#This Row],[氏 名]]="","",INDEX($S$32:$S$50,MATCH(D40,$R$32:$R$50,0))) -> 2 | G40: 102.5 | H40: 98 | I40: 99.3 | J40: 100.6 | K40: 101.4 | L40: 96.1 | M40: =IF(G40="","",SUM(G40:L40)) -> 597.9 | N40: =IF(M40="","",RANK(M40,$M$32:$M$52)) -> 9 | O40: 4 | P40: 済美A | Q40: 46033453 | R40: 田中 玲衣 | S40: 1 | T40: =P40&2 -> 済美A2
A41: 11 | B41: 2-8 | C41: =IF(テーブル5[[#This Row],[氏 名]]="","",INDEX($Q$32:$Q$50,MATCH(D41,$R$32:$R$50,0))) -> 申請中 | D41: 安藤 凛 | E41: =IF(テーブル5[[#This Row],[氏 名]]="","",INDEX($P$32:$P$50,MATCH(D41,$R$32:$R$50,0))) -> 鶯谷A | F41: =IF(テーブル5[[#This Row],[氏 名]]="","",INDEX($S$32:$S$50,MATCH(D41,$R$32:$R$50,0))) -> 1 | G41: 90.2 | H41: 98.7 | I41: 100.6 | J41: 99.9 | K41: 101.5 | L41: 101.5 | M41: =IF(G41="","",SUM(G41:L41)) -> 592.4 | N41: =IF(M41="","",RANK(M41,$M$32:$M$52)) -> 10 | O41: 5 | P41: 済美A | Q41: 50036212 | R41: 杉山 碧依 | S41: 1 | T41: =P41&3 -> 済美A3
A42: 5 | B42: 1-6 | C42: =IF(テーブル5[[#This Row],[氏 名]]="","",INDEX($Q$32:$Q$50,MATCH(D42,$R$32:$R$50,0))) -> 50036115 | D42: 松丸 葵 | E42: =IF(テーブル5[[#This Row],[氏 名]]="","",INDEX($P$32:$P$50,MATCH(D42,$R$32:$R$50,0))) -> 鶯谷A | F42: =IF(テーブル5[[#This Row],[氏 名]]="","",INDEX($S$32:$S$50,MATCH(D42,$R$32:$R$50,0))) -> 1 | G42: 96.2 | H42: 95.6 | I42: 100.3 | J42: 102.3 | K42: 99.2 | L42: 98.1 | M42: =IF(G42="","",SUM(G42:L42)) -> 591.7 | N42: =IF(M42="","",RANK(M42,$M$32:$M$52)) -> 11 | O42: 0 | P42: 済美B | Q42: 申請中 | R42: 杉下 百花 | S42: 1 | T42: =P42&1 -> 済美B1
A43: 7 | B43: 1-8 | C43: =IF(テーブル5[[#This Row],[氏 名]]="","",INDEX($Q$32:$Q$50,MATCH(D43,$R$32:$R$50,0))) -> 50036213 | D43: 丁左近 華奈 | E43: =IF(テーブル5[[#This Row],[氏 名]]="","",INDEX($P$32:$P$50,MATCH(D43,$R$32:$R$50,0))) -> 済美 | F43: =IF(テーブル5[[#This Row],[氏 名]]="","",INDEX($S$32:$S$50,MATCH(D43,$R$32:$R$50,0))) -> 1 | G43: 96.1 | H43: 97 | I43: 98.1 | J43: 98.9 | K43: 94.1 | L43: 100.9 | M43: =IF(G43="","",SUM(G43:L43)) -> 585.1 | N43: =IF(M43="","",RANK(M43,$M$32:$M$52)) -> 12 | O43: 4 | P43: 済美B | Q43: 50036229 | R43: 木田 裕乃 | S43: 1 | T43: =P43&2 -> 済美B2
A44: 15 | B44: 3-8 | C44: =IF(テーブル5[[#This Row],[氏 名]]="","",INDEX($Q$32:$Q$50,MATCH(D44,$R$32:$R$50,0))) -> 50037585 | D44: 押田 雪那 | E44: =IF(テーブル5[[#This Row],[氏 名]]="","",INDEX($P$32:$P$50,MATCH(D44,$R$32:$R$50,0))) -> 関有知A | F44: =IF(テーブル5[[#This Row],[氏 名]]="","",INDEX($S$32:$S$50,MATCH(D44,$R$32:$R$50,0))) -> 1 | G44: 101.2 | H44: 97.3 | I44: 95.9 | J44: 95.1 | K44: 95.2 | L44: 94.8 | M44: =IF(G44="","",SUM(G44:L44)) -> 579.5 | N44: =IF(M44="","",RANK(M44,$M$32:$M$52)) -> 13 | O44: 5 | P44: 済美B | Q44: 50036015 | R44: 梶川 結妃 | S44: 1 | T44: =P44&3 -> 済美B3 | W44: 0.05790829
A45: 9 | B45: 2-9 | C45: =IF(テーブル5[[#This Row],[氏 名]]="","",INDEX($Q$32:$Q$50,MATCH(D45,$R$32:$R$50,0))) -> 50037409 | D45: 後藤 小日芽 | E45: =IF(テーブル5[[#This Row],[氏 名]]="","",INDEX($P$32:$P$50,MATCH(D45,$R$32:$R$50,0))) -> 関有知A | F45: =IF(テーブル5[[#This Row],[氏 名]]="","",INDEX($S$32:$S$50,MATCH(D45,$R$32:$R$50,0))) -> 1 | G45: 93.8 | H45: 91 | I45: 93.6 | J45: 98.3 | K45: 92.5 | L45: 98.1 | M45: =IF(G45="","",SUM(G45:L45)) -> 567.3 | N45: =IF(M45="","",RANK(M45,$M$32:$M$52)) -> 14 | O45: 4 | P45: 済美 | Q45: 47034312 | R45: 大野 愛季 | S45: 2 | T45: =P45&1 -> 済美1 | W45: 0.75935572
A46: 1 | B46: 1-2 | C46: =IF(テーブル5[[#This Row],[氏 名]]="","",INDEX($Q$32:$Q$50,MATCH(D46,$R$32:$R$50,0))) -> 50037020 | D46: 伊藤 碧音 | E46: =IF(テーブル5[[#This Row],[氏 名]]="","",INDEX($P$32:$P$50,MATCH(D46,$R$32:$R$50,0))) -> 大垣日大 | F46: =IF(テーブル5[[#This Row],[氏 名]]="","",INDEX($S$32:$S$50,MATCH(D46,$R$32:$R$50,0))) -> 1 | G46: 98.8 | H46: 94.6 | I46: 85.4 | J46: 92.8 | K46: 99.7 | L46: 95.4 | M46: =IF(G46="","",SUM(G46:L46)) -> 566.7 | N46: =IF(M46="","",RANK(M46,$M$32:$M$52)) -> 15 | O46: 4 | P46: 済美 | Q46: 50036213 | R46: 丁左近 華奈 | S46: 1 | T46: =P46&1 -> 済美1 | W46: 0.57943951
...

Sheet BP予選
D1: 岐阜県高校総体ライフル射撃競技 BPの部
D5: 46313 | E5: =WEEKDAY(D5) -> 1 | F5: 済美高等学校射撃場
D7: 第1射群 | E7: 9：00～ 9：45 | H7: 第4射群 | J7: 12：30 ～ 13：15
D8: 第2射群 | E8: 10：10 ～ 10：55 | H8: 第5射群 | J8: 13：40 ～ 14：25
D9: 第3射群 | E9: 11：20 ～ 12：05
E11: 男子 | R11: エントリーリスト
A12: 通番 | B12: 列5 | C12: 射座 | D12: ID | E12: 氏 名 | F12: 学 校 | G12: 学年 | H12: 1 | I12: 2 | J12: 3 | K12: 4 | L12: 5 | M12: 6 | N12: 合 計 | O12: 順位 | P12: X | R12: 学校 | S12: ID | T12: 氏名 | U12: 学年 | X12: 射座 | Y12: 第１射群 | Z12: 第2射群 | AA12: 第３射群 | AB12: 第４射群 | AC12: 第５射群
A13: 10 | B13: =#REF! -> #REF! | C13: 4-1 | D13: =IF(テーブル6[[#This Row],[氏 名]]="","",INDEX($S$13:$S$25,MATCH(E13,$T$13:$T$25,0))) -> 45031949 | E13: 德田 恭実 | F13: =IF(テーブル6[[#This Row],[氏 名]]="","",INDEX($R$13:$R$25,MATCH(E13,$T$13:$T$25,0))) -> 済美A | G13: =IF(テーブル6[[#This Row],[氏 名]]="","",INDEX($U$13:$U$25,MATCH(E13,$T$13:$T$25,0))) -> 2 | H13: 92 | I13: 95 | J13: 86 | K13: 93 | L13: 91 | M13: 86 | N13: =IF(H13="","",SUM(H13:M13)) -> 543 | O13: =IF(N13="","",RANK(N13,$N$13:$N$25)) -> 1 | P13: 6 | R13: 鶯谷A | S13: 47034315 | T13: 清原 隼 | U13: 2 | V13: =R13&1 -> 鶯谷A1 | W13: A | X13: 1 | Y13: =INDEX($T$13:$T$25,_xlfn.RANK.EQ(Y18,$Y$18:$AD$20,0)) -> 蓑島 康太 | Z13: =INDEX($T$13:$T$25,_xlfn.RANK.EQ(Z18,$Y$18:$AD$20,0)) -> 清原 隼 | AA13: =INDEX($T$13:$T$25,_xlfn.RANK.EQ(AA18,$Y$18:$AD$20,0)) -> 田上 力一 | AB13: =INDEX($T$13:$T$25,_xlfn.RANK.EQ(AB18,$Y$18:$AD$20,0)) -> 德田 恭実 | AC13: =INDEX($T$13:$T$25,_xlfn.RANK.EQ(AC18,$Y$18:$AD$20,0)) -> 西村 翔真
A14: 8 | B14: =#REF! -> #REF! | C14: 3-2 | D14: =IF(テーブル6[[#This Row],[氏 名]]="","",INDEX($S$13:$S$25,MATCH(E14,$T$13:$T$25,0))) -> 45030629 | E14: 田邉 陸玖 | F14: =IF(テーブル6[[#This Row],[氏 名]]="","",INDEX($R$13:$R$25,MATCH(E14,$T$13:$T$25,0))) -> 済美 | G14: =IF(テーブル6[[#This Row],[氏 名]]="","",INDEX($U$13:$U$25,MATCH(E14,$T$13:$T$25,0))) -> 2 | H14: 95 | I14: 88 | J14: 91 | K14: 90 | L14: 87 | M14: 91 | N14: =IF(H14="","",SUM(H14:M14)) -> 542 | O14: =IF(N14="","",RANK(N14,$N$13:$N$25)) -> 2 | P14: 4 | R14: 鶯谷A | S14: 47034316 | T14: 山梨 功晴 | U14: 2 | V14: =R14&2 -> 鶯谷A2 | W14: A | X14: 2 | Y14: =INDEX($T$13:$T$25,_xlfn.RANK.EQ(Y19,$Y$18:$AD$20,0)) -> 棚橋 隼 | Z14: =INDEX($T$13:$T$25,_xlfn.RANK.EQ(Z19,$Y$18:$AD$20,0)) -> 小森 翔太 | AA14: =INDEX($T$13:$T$25,_xlfn.RANK.EQ(AA19,$Y$18:$AD$20,0)) -> 田邉 陸玖 | AB14: =INDEX($T$13:$T$25,_xlfn.RANK.EQ(AB19,$Y$18:$AD$20,0)) -> 小倉 虎太郎 | AC14: =INDEX($T$13:$T$25,_xlfn.RANK.EQ(AC19,$Y$18:$AD$20,0)) -> 山田 流空
A15: 12 | B15: =#REF! -> #REF! | C15: 5-1 | D15: =IF(テーブル6[[#This Row],[氏 名]]="","",INDEX($S$13:$S$25,MATCH(E15,$T$13:$T$25,0))) -> 47034298 | E15: 西村 翔真 | F15: =IF(テーブル6[[#This Row],[氏 名]]="","",INDEX($R$13:$R$25,MATCH(E15,$T$13:$T$25,0))) -> 関有知A | G15: =IF(テーブル6[[#This Row],[氏 名]]="","",INDEX($U$13:$U$25,MATCH(E15,$T$13:$T$25,0))) -> 2 | H15: 83 | I15: 86 | J15: 85 | K15: 81 | L15: 81 | M15: 90 | N15: =IF(H15="","",SUM(H15:M15)) -> 506 | O15: =IF(N15="","",RANK(N15,$N$13:$N$25)) -> 3 | P15: 3 | R15: 鶯谷 | S15: 50036114 | T15: 小森 翔太 | U15: 1 | V15: =R15&1 -> 鶯谷1 | X15: 3 | Y15: =INDEX($T$13:$T$25,_xlfn.RANK.EQ(Y20,$Y$18:$AD$20,0)) -> 加納 陸翔 | Z15: =INDEX($T$13:$T$25,_xlfn.RANK.EQ(Z20,$Y$18:$AD$20,0)) -> 山梨 功晴 | AA15: =INDEX($T$13:$T$25,_xlfn.RANK.EQ(AA20,$Y$18:$AD$20,0)) -> 狩野 佑斗
A16: 1 | B16: =#REF! -> #REF! | C16: 1-1 | D16: =IF(テーブル6[[#This Row],[氏 名]]="","",INDEX($S$13:$S$25,MATCH(E16,$T$13:$T$25,0))) -> 50036179 | E16: 蓑島 康太 | F16: =IF(テーブル6[[#This Row],[氏 名]]="","",INDEX($R$13:$R$25,MATCH(E16,$T$13:$T$25,0))) -> 済美A | G16: =IF(テーブル6[[#This Row],[氏 名]]="","",INDEX($U$13:$U$25,MATCH(E16,$T$13:$T$25,0))) -> 1 | H16: 85 | I16: 81 | J16: 85 | K16: 84 | L16: 89 | M16: 81 | N16: =IF(H16="","",SUM(H16:M16)) -> 505 | O16: =IF(N16="","",RANK(N16,$N$13:$N$25)) -> 4 | P16: 1 | R16: 関有知A | S16: 47034298 | T16: 西村 翔真 | U16: 2 | V16: =R16&2 -> 関有知A2
A17: 7 | B17: =#REF! -> #REF! | C17: 3-1 | D17: =IF(テーブル6[[#This Row],[氏 名]]="","",INDEX($S$13:$S$25,MATCH(E17,$T$13:$T$25,0))) -> 47034325 | E17: 田上 力一 | F17: =IF(テーブル6[[#This Row],[氏 名]]="","",INDEX($R$13:$R$25,MATCH(E17,$T$13:$T$25,0))) -> 大垣日大A | G17: =IF(テーブル6[[#This Row],[氏 名]]="","",INDEX($U$13:$U$25,MATCH(E17,$T$13:$T$25,0))) -> 2 | H17: 77 | I17: 82 | J17: 85 | K17: 90 | L17: 80 | M17: 83 | N17: =IF(H17="","",SUM(H17:M17)) -> 497 | O17: =IF(N17="","",RANK(N17,$N$13:$N$25)) -> 5 | P17: 1 | R17: 関有知A | S17: 50037236 | T17: 山田 流空 | U17: 1 | V17: =R17&1 -> 関有知A1
A18: 5 | B18: =#REF! -> #REF! | C18: 2-2 | D18: =IF(テーブル6[[#This Row],[氏 名]]="","",INDEX($S$13:$S$25,MATCH(E18,$T$13:$T$25,0))) -> 50037236 | E18: 山田 流空 | F18: =IF(テーブル6[[#This Row],[氏 名]]="","",INDEX($R$13:$R$25,MATCH(E18,$T$13:$T$25,0))) -> 関有知A | G18: =IF(テーブル6[[#This Row],[氏 名]]="","",INDEX($U$13:$U$25,MATCH(E18,$T$13:$T$25,0))) -> 1 | H18: 74 | I18: 81 | J18: 89 | K18: 78 | L18: 81 | M18: 82 | N18: =IF(H18="","",SUM(H18:M18)) -> 485 | O18: =IF(N18="","",RANK(N18,$N$13:$N$25)) -> 6 | P18: 2 | R18: 関有知 | S18: 47034304 | T18: 棚橋 隼 | U18: 2 | V18: =R18&2 -> 関有知2 | Y18: 0.33194212 | Z18: 0.95236433 | AA18: 0.21837452 | AB18: 0.48004308 | AC18: 0.73547794
A19: 9 | B19: =#REF! -> #REF! | C19: 3-3 | D19: =IF(テーブル6[[#This Row],[氏 名]]="","",INDEX($S$13:$S$25,MATCH(E19,$T$13:$T$25,0))) -> 47034313 | E19: 狩野 佑斗 | F19: =IF(テーブル6[[#This Row],[氏 名]]="","",INDEX($R$13:$R$25,MATCH(E19,$T$13:$T$25,0))) -> 郡上北A | G19: =IF(テーブル6[[#This Row],[氏 名]]="","",INDEX($U$13:$U$25,MATCH(E19,$T$13:$T$25,0))) -> 2 | H19: 77 | I19: 87 | J19: 77 | K19: 73 | L19: 86 | M19: 75 | N19: =IF(H19="","",SUM(H19:M19)) -> 475 | O19: =IF(N19="","",RANK(N19,$N$13:$N$25)) -> 7 | P19: 1 | R19: 郡上北A | S19: 47034313 | T19: 狩野 佑斗 | U19: 2 | V19: =R19&1 -> 郡上北A1 | Y19: 0.56163892 | Z19: 0.7594068 | AA19: 0.25934845 | AB19: 0.51826506 | AC19: 0.61068984
A20: 6 | B20: =#REF! -> #REF! | C20: 2-3 | D20: =IF(テーブル6[[#This Row],[氏 名]]="","",INDEX($S$13:$S$25,MATCH(E20,$T$13:$T$25,0))) -> 50036114 | E20: 小森 翔太 | F20: =IF(テーブル6[[#This Row],[氏 名]]="","",INDEX($R$13:$R$25,MATCH(E20,$T$13:$T$25,0))) -> 鶯谷 | G20: =IF(テーブル6[[#This Row],[氏 名]]="","",INDEX($U$13:$U$25,MATCH(E20,$T$13:$T$25,0))) -> 1 | H20: 77 | I20: 74 | J20: 87 | K20: 79 | L20: 80 | M20: 74 | N20: =IF(H20="","",SUM(H20:M20)) -> 471 | O20: =IF(N20="","",RANK(N20,$N$13:$N$25)) -> 8 | P20: 3 | R20: 郡上北A | S20: 47034314 | T20: 小倉 虎太郎 | U20: 2 | V20: =R20&2 -> 郡上北A2 | Y20: 0.15393507 | Z20: 0.76816566 | AA20: 0.54024024
A21: 2 | B21: =#REF! -> #REF! | C21: 1-2 | D21: =IF(テーブル6[[#This Row],[氏 名]]="","",INDEX($S$13:$S$25,MATCH(E21,$T$13:$T$25,0))) -> 47034304 | E21: 棚橋 隼 | F21: =IF(テーブル6[[#This Row],[氏 名]]="","",INDEX($R$13:$R$25,MATCH(E21,$T$13:$T$25,0))) -> 関有知 | G21: =IF(テーブル6[[#This Row],[氏 名]]="","",INDEX($U$13:$U$25,MATCH(E21,$T$13:$T$25,0))) -> 2 | H21: 77 | I21: 78 | J21: 83 | K21: 78 | L21: 79 | M21: 72 | N21: =IF(H21="","",SUM(H21:M21)) -> 467 | O21: =IF(N21="","",RANK(N21,$N$13:$N$25)) -> 9 | P21: 2 | R21: 済美A | S21: 45031949 | T21: 德田 恭実 | U21: 2 | V21: =R21&1 -> 済美A1
A22: 3 | B22: =#REF! -> #REF! | C22: 1-3 | D22: =IF(テーブル6[[#This Row],[氏 名]]="","",INDEX($S$13:$S$25,MATCH(E22,$T$13:$T$25,0))) -> 50037024 | E22: 加納 陸翔 | F22: =IF(テーブル6[[#This Row],[氏 名]]="","",INDEX($R$13:$R$25,MATCH(E22,$T$13:$T$25,0))) -> 大垣日大A | G22: =IF(テーブル6[[#This Row],[氏 名]]="","",INDEX($U$13:$U$25,MATCH(E22,$T$13:$T$25,0))) -> 1 | H22: 81 | I22: 72 | J22: 68 | K22: 72 | L22: 77 | M22: 83 | N22: =IF(H22="","",SUM(H22:M22)) -> 453 | O22: =IF(N22="","",RANK(N22,$N$13:$N$25)) -> 10 | P22: 0 | R22: 済美A | S22: 50036179 | T22: 蓑島 康太 | U22: 1 | V22: =R22&2 -> 済美A2
A23: 13 | B23: =#REF! -> #REF! | C23: 5-2 | D23: =IF(テーブル6[[#This Row],[氏 名]]="","",INDEX($S$13:$S$25,MATCH(E23,$T$13:$T$25,0))) -> 47034316 | E23: 山梨 功晴 | F23: =IF(テーブル6[[#This Row],[氏 名]]="","",INDEX($R$13:$R$25,MATCH(E23,$T$13:$T$25,0))) -> 鶯谷A | G23: =IF(テーブル6[[#This Row],[氏 名]]="","",INDEX($U$13:$U$25,MATCH(E23,$T$13:$T$25,0))) -> 2 | H23: 80 | I23: 72 | J23: 68 | K23: 75 | L23: 80 | M23: 76 | N23: =IF(H23="","",SUM(H23:M23)) -> 451 | O23: =IF(N23="","",RANK(N23,$N$13:$N$25)) -> 11 | P23: 2 | R23: 済美 | S23: 45030629 | T23: 田邉 陸玖 | U23: 2 | V23: =R23&1 -> 済美1 | W23: BR
A24: 11 | B24: =#REF! -> #REF! | C24: 4-2 | D24: =IF(テーブル6[[#This Row],[氏 名]]="","",INDEX($S$13:$S$25,MATCH(E24,$T$13:$T$25,0))) -> 47034314 | E24: 小倉 虎太郎 | F24: =IF(テーブル6[[#This Row],[氏 名]]="","",INDEX($R$13:$R$25,MATCH(E24,$T$13:$T$25,0))) -> 郡上北A | G24: =IF(テーブル6[[#This Row],[氏 名]]="","",INDEX($U$13:$U$25,MATCH(E24,$T$13:$T$25,0))) -> 2 | H24: 61 | I24: 75 | J24: 72 | K24: 80 | L24: 78 | M24: 66 | N24: =IF(H24="","",SUM(H24:M24)) -> 432 | O24: =IF(N24="","",RANK(N24,$N$13:$N$25)) -> 12 | P24: 1 | R24: 大垣日大A | S24: 47034325 | T24: 田上 力一 | U24: 2 | V24: =R24&2 -> 大垣日大A2 | W24: A
A25: 4 | B25: =#REF! -> #REF! | C25: 2-1 | D25: =IF(テーブル6[[#This Row],[氏 名]]="","",INDEX($S$13:$S$25,MATCH(E25,$T$13:$T$25,0))) -> 47034315 | E25: 清原 隼 | F25: =IF(テーブル6[[#This Row],[氏 名]]="","",INDEX($R$13:$R$25,MATCH(E25,$T$13:$T$25,0))) -> 鶯谷A | G25: =IF(テーブル6[[#This Row],[氏 名]]="","",INDEX($U$13:$U$25,MATCH(E25,$T$13:$T$25,0))) -> 2 | H25: 63 | I25: 73 | J25: 71 | K25: 67 | L25: 70 | M25: 77 | N25: =IF(H25="","",SUM(H25:M25)) -> 421 | O25: =IF(N25="","",RANK(N25,$N$13:$N$25)) -> 13 | P25: 0 | R25: 大垣日大A | S25: 50037024 | T25: 加納 陸翔 | U25: 1 | V25: =R25&1 -> 大垣日大A1 | W25: B
B26: =#REF! -> #REF!
E27: 女子 | R27: エントリーリスト
A28: 通番 | B28: 列1 | C28: 射座 | D28: ID | E28: 氏 名 | F28: 学 校 | G28: 学年 | H28: 1 | I28: 2 | J28: 3 | K28: 4 | L28: 5 | M28: 6 | N28: 合 計 | O28: 順位 | P28: X | R28: 学校 | S28: ID | T28: 氏名 | U28: 学年 | X28: 射座 | Y28: 第１射群 | Z28: 第2射群 | AA28: 第３射群 | AB28: 第４射群 | AC28: 第５射群
A29: 6 | C29: 3-5 | D29: =IF(テーブル7[[#This Row],[氏 名]]="","",INDEX($S$29:$S$38,MATCH(E29,$T$29:$T$38,0))) -> 47034311 | E29: 柚木 紹 | F29: =IF(テーブル7[[#This Row],[氏 名]]="","",INDEX($R$29:$R$38,MATCH(E29,$T$29:$T$38,0))) -> 済美 | G29: =IF(テーブル7[[#This Row],[氏 名]]="","",INDEX($U$29:$U$38,MATCH(E29,$T$29:$T$38,0))) -> 2 | H29: 89 | I29: 87 | J29: 92 | K29: 91 | L29: 90 | M29: 94 | N29: =IF(H29="","",SUM(H29:M29)) -> 543 | O29: =IF(N29="","",RANK(N29,$N$29:$N$38)) -> 1 | P29: 7 | R29: 鶯谷A | S29: 50034805 | T29: 藤井 音緒 | U29: 2 | V29: =R29&1 -> 鶯谷A1 | W29: a | X29: 4 | Y29: =INDEX($T$29:$T$38,_xlfn.RANK.EQ(Y33,$Y$33:$AD$34,0)) -> 東 莉杏 | Z29: =INDEX($T$29:$T$38,_xlfn.RANK.EQ(Z33,$Y$33:$AD$34,0)) -> 角 律希 | AA29: =INDEX($T$29:$T$38,_xlfn.RANK.EQ(AA33,$Y$33:$AD$34,0)) -> 東出 妃奈子 | AB29: =INDEX($T$29:$T$38,_xlfn.RANK.EQ(AB33,$Y$33:$AD$34,0)) -> 関 希 | AC29: =INDEX($T$29:$T$38,_xlfn.RANK.EQ(AC33,$Y$33:$AD$34,0)) -> 古田聖莉奈
A30: 8 | C30: 4-5 | D30: =IF(テーブル7[[#This Row],[氏 名]]="","",INDEX($S$29:$S$38,MATCH(E30,$T$29:$T$38,0))) -> 50037239 | E30: 古田聖莉奈 | F30: =IF(テーブル7[[#This Row],[氏 名]]="","",INDEX($R$29:$R$38,MATCH(E30,$T$29:$T$38,0))) -> 関有知 | G30: =IF(テーブル7[[#This Row],[氏 名]]="","",INDEX($U$29:$U$38,MATCH(E30,$T$29:$T$38,0))) -> 1 | H30: 83 | I30: 88 | J30: 82 | K30: 85 | L30: 90 | M30: 89 | N30: =IF(H30="","",SUM(H30:M30)) -> 517 | O30: =IF(N30="","",RANK(N30,$N$29:$N$38)) -> 2 | P30: 4 | R30: 鶯谷A | S30: 50036109 | T30: 東 莉杏 | U30: 2 | V30: =R30&2 -> 鶯谷A2 | W30: a | X30: 5 | Y30: =INDEX($T$29:$T$38,_xlfn.RANK.EQ(Y34,$Y$33:$AD$34,0)) -> 佐竹 結衣 | Z30: =INDEX($T$29:$T$38,_xlfn.RANK.EQ(Z34,$Y$33:$AD$34,0)) -> 加藤 葵 | AA30: =INDEX($T$29:$T$38,_xlfn.RANK.EQ(AA34,$Y$33:$AD$34,0)) -> 柚木 紹 | AB30: =INDEX($T$29:$T$38,_xlfn.RANK.EQ(AB34,$Y$33:$AD$34,0)) -> 藤江 香澄 | AC30: =INDEX($T$29:$T$38,_xlfn.RANK.EQ(AC34,$Y$33:$AD$34,0)) -> 藤井 音緒
A31: 4 | C31: 2-5 | D31: =IF(テーブル7[[#This Row],[氏 名]]="","",INDEX($S$29:$S$38,MATCH(E31,$T$29:$T$38,0))) -> 47034331 | E31: 角 律希 | F31: =IF(テーブル7[[#This Row],[氏 名]]="","",INDEX($R$29:$R$38,MATCH(E31,$T$29:$T$38,0))) -> 大垣日大A | G31: =IF(テーブル7[[#This Row],[氏 名]]="","",INDEX($U$29:$U$38,MATCH(E31,$T$29:$T$38,0))) -> 2 | H31: 85 | I31: 86 | J31: 92 | K31: 88 | L31: 78 | M31: 84 | N31: =IF(H31="","",SUM(H31:M31)) -> 513 | O31: =IF(N31="","",RANK(N31,$N$29:$N$38)) -> 3 | P31: 3 | R31: 鶯谷 | S31: 50036111 | T31: 加藤 葵 | U31: 2 | V31: =R31&1 -> 鶯谷1
A32: 5 | C32: 3-4 | D32: =IF(テーブル7[[#This Row],[氏 名]]="","",INDEX($S$29:$S$38,MATCH(E32,$T$29:$T$38,0))) -> 47034333 | E32: 関 希 | F32: =IF(テーブル7[[#This Row],[氏 名]]="","",INDEX($R$29:$R$38,MATCH(E32,$T$29:$T$38,0))) -> 大垣日大A | G32: =IF(テーブル7[[#This Row],[氏 名]]="","",INDEX($U$29:$U$38,MATCH(E32,$T$29:$T$38,0))) -> 2 | H32: 79 | I32: 83 | J32: 75 | K32: 72 | L32: 77 | M32: 78 | N32: =IF(H32="","",SUM(H32:M32)) -> 464 | O32: =IF(N32="","",RANK(N32,$N$29:$N$38)) -> 4 | P32: 1 | R32: 関有知 | S32: 50037239 | T32: 古田聖莉奈 | U32: 1 | V32: =R32&1 -> 関有知1
A33: 10 | B33: =#REF! -> #REF! | C33: 5-5 | D33: =IF(テーブル7[[#This Row],[氏 名]]="","",INDEX($S$29:$S$38,MATCH(E33,$T$29:$T$38,0))) -> 50034805 | E33: 藤井 音緒 | F33: =IF(テーブル7[[#This Row],[氏 名]]="","",INDEX($R$29:$R$38,MATCH(E33,$T$29:$T$38,0))) -> 鶯谷A | G33: =IF(テーブル7[[#This Row],[氏 名]]="","",INDEX($U$29:$U$38,MATCH(E33,$T$29:$T$38,0))) -> 2 | H33: 72 | I33: 73 | J33: 79 | K33: 79 | L33: 80 | M33: 78 | N33: =IF(H33="","",SUM(H33:M33)) -> 461 | O33: =IF(N33="","",RANK(N33,$N$29:$N$38)) -> 5 | P33: 1 | R33: 済美 | S33: 47034311 | T33: 柚木 紹 | U33: 2 | V33: =R33&1 -> 済美1 | Y33: 0.91717089 | Z33: 0.69684713 | AA33: 0.20630403 | AB33: 0.44536807 | AC33: 0.75753333
A34: 2 | C34: 1-5 | D34: =IF(テーブル7[[#This Row],[氏 名]]="","",INDEX($S$29:$S$38,MATCH(E34,$T$29:$T$38,0))) -> 50037006 | E34: 佐竹 結衣 | F34: =IF(テーブル7[[#This Row],[氏 名]]="","",INDEX($R$29:$R$38,MATCH(E34,$T$29:$T$38,0))) -> 大垣日大B | G34: =IF(テーブル7[[#This Row],[氏 名]]="","",INDEX($U$29:$U$38,MATCH(E34,$T$29:$T$38,0))) -> 1 | H34: 69 | I34: 81 | J34: 72 | K34: 70 | L34: 74 | M34: 69 | N34: =IF(H34="","",SUM(H34:M34)) -> 435 | O34: =IF(N34="","",RANK(N34,$N$29:$N$38)) -> 6 | P34: 2 | R34: 大垣日大A | S34: 47034331 | T34: 角 律希 | U34: 2 | V34: =R34&1 -> 大垣日大A1 | W34: B | Y34: 0.26180831 | Z34: 0.7915921 | AA34: 0.71325638 | AB34: 0.26361942 | AC34: 0.9735515
A35: 9 | C35: 5-4 | D35: =IF(テーブル7[[#This Row],[氏 名]]="","",INDEX($S$29:$S$38,MATCH(E35,$T$29:$T$38,0))) -> 50035564 | E35: 藤江 香澄 | F35: =IF(テーブル7[[#This Row],[氏 名]]="","",INDEX($R$29:$R$38,MATCH(E35,$T$29:$T$38,0))) -> 大垣日大B | G35: =IF(テーブル7[[#This Row],[氏 名]]="","",INDEX($U$29:$U$38,MATCH(E35,$T$29:$T$38,0))) -> 2 | H35: 78 | I35: 74 | J35: 65 | K35: 74 | L35: 72 | M35: 72 | N35: =IF(H35="","",SUM(H35:M35)) -> 435 | O35: =IF(N35="","",RANK(N35,$N$29:$N$38)) -> 6 | P35: 1 | R35: 大垣日大A | S35: 47034333 | T35: 関 希 | U35: 2 | V35: =R35&2 -> 大垣日大A2 | W35: B
A36: 3 | C36: 2-4 | D36: =IF(テーブル7[[#This Row],[氏 名]]="","",INDEX($S$29:$S$38,MATCH(E36,$T$29:$T$38,0))) -> 50036111 | E36: 加藤 葵 | F36: =IF(テーブル7[[#This Row],[氏 名]]="","",INDEX($R$29:$R$38,MATCH(E36,$T$29:$T$38,0))) -> 鶯谷 | G36: =IF(テーブル7[[#This Row],[氏 名]]="","",INDEX($U$29:$U$38,MATCH(E36,$T$29:$T$38,0))) -> 2 | H36: 71 | I36: 67 | J36: 61 | K36: 70 | L36: 67 | M36: 82 | N36: =IF(H36="","",SUM(H36:M36)) -> 418 | O36: =IF(N36="","",RANK(N36,$N$29:$N$38)) -> 8 | P36: 1 | R36: 大垣日大B | S36: 50035564 | T36: 藤江 香澄 | U36: 2 | V36: =R36&1 -> 大垣日大B1 | W36: B
A37: 1 | C37: 1-4 | D37: =IF(テーブル7[[#This Row],[氏 名]]="","",INDEX($S$29:$S$38,MATCH(E37,$T$29:$T$38,0))) -> 50036109 | E37: 東 莉杏 | F37: =IF(テーブル7[[#This Row],[氏 名]]="","",INDEX($R$29:$R$38,MATCH(E37,$T$29:$T$38,0))) -> 鶯谷A | G37: =IF(テーブル7[[#This Row],[氏 名]]="","",INDEX($U$29:$U$38,MATCH(E37,$T$29:$T$38,0))) -> 2 | H37: 63 | I37: 58 | J37: 44 | K37: 63 | L37: 78 | M37: 61 | N37: =IF(H37="","",SUM(H37:M37)) -> 367 | O37: =IF(N37="","",RANK(N37,$N$29:$N$38)) -> 9 | P37: 1 | R37: 大垣日大B | S37: 50037006 | T37: 佐竹 結衣 | U37: 1 | V37: =R37&2 -> 大垣日大B2 | W37: A
A38: 7 | C38: 4-4 | D38: =IF(テーブル7[[#This Row],[氏 名]]="","",INDEX($S$29:$S$38,MATCH(E38,$T$29:$T$38,0))) -> 50037022 | E38: 東出 妃奈子 | F38: =IF(テーブル7[[#This Row],[氏 名]]="","",INDEX($R$29:$R$38,MATCH(E38,$T$29:$T$38,0))) -> 大垣日大 | G38: =IF(テーブル7[[#This Row],[氏 名]]="","",INDEX($U$29:$U$38,MATCH(E38,$T$29:$T$38,0))) -> 1 | H38: 51 | I38: 57 | J38: 56 | K38: 62 | L38: 50 | M38: 51 | N38: =IF(H38="","",SUM(H38:M38)) -> 327 | O38: =IF(N38="","",RANK(N38,$N$29:$N$38)) -> 10 | P38: 1 | R38: 大垣日大 | S38: 50037022 | T38: 東出 妃奈子 | U38: 1 | V38: =R38&1 -> 大垣日大1 | W38: A
E40: 女子（オープン参加）

Sheet 団体戦
B1: AR 男子団体戦 | D1: 46158 | E1: =WEEKDAY(D1) -> 7 | F1: 県立関有知高等学校射撃場
A2: 通番 | B2: チーム名 | C2: 氏 名 | D2: 得 点 | E2: 氏 名2 | F2: 得 点2 | G2: 氏 名3 | H2: 得 点3 | I2: 合計点 | J2: 順位
A3: 1 | B3: 済美A | C3: =INDEX(AR予選!$R$14:$R$17,MATCH(テーブル11[[#This Row],[チーム名]]&1,AR予選!$T$14:$T$17,0)) -> 加藤 凜 | D3: =INDEX(テーブル2[合 計],MATCH(テーブル11[[#This Row],[氏 名]],テーブル2[氏 名],0)) -> 601.6 | E3: =INDEX(AR予選!$R$14:$R$17,MATCH(テーブル11[[#This Row],[チーム名]]&2,AR予選!$T$14:$T$17,0)) -> 福田 隆人 | F3: =INDEX(テーブル2[合 計],MATCH(テーブル11[[#This Row],[氏 名2]],テーブル2[氏 名],0)) -> 592.9 | G3: =INDEX(AR予選!$R$14:$R$17,MATCH(テーブル11[[#This Row],[チーム名]]&3,AR予選!$T$14:$T$17,0)) -> 田邉 陸玖 | H3: =INDEX(テーブル2[合 計],MATCH(テーブル11[[#This Row],[氏 名3]],テーブル2[氏 名],0)) -> 601.8 | I3: =IF(テーブル11[[#This Row],[得 点]]="","",テーブル11[[#This Row],[得 点]]+テーブル11[[#This Row],[得 点2]]+テーブル11[[#This Row],[得 点3]]) -> 1796.3 | J3: =IF(テーブル11[[#This Row],[合計点]]="","",_xlfn.RANK.EQ(テーブル11[[#This Row],[合計点]],テーブル11[合計点],1)) -> 1
B5: AR 女子団体戦 | D5: 46158 | E5: =WEEKDAY(D5) -> 7 | F5: 県立関有知高等学校射撃場
A6: 通番 | B6: チーム名 | C6: 氏 名 | D6: 得 点 | E6: 氏 名2 | F6: 得 点2 | G6: 氏 名3 | H6: 得 点3 | I6: 合計点 | J6: 順位
A7: 1 | B7: 関有知A | C7: =INDEX(AR予選!$R$21:$R$22,MATCH(テーブル1114[[#This Row],[チーム名]]&1,AR予選!$T$21:$T$22,0)) -> #N/A | D7: =INDEX(テーブル1[合 計],MATCH(テーブル1114[[#This Row],[氏 名]],テーブル1[氏 名],0)) -> #N/A | E7: =INDEX(AR予選!$R$21:$R$22,MATCH(テーブル1114[[#This Row],[チーム名]]&2,AR予選!$T$21:$T$22,0)) -> #N/A | F7: =INDEX(テーブル1[合 計],MATCH(テーブル1114[[#This Row],[氏 名2]],テーブル1[氏 名],0)) -> #N/A | G7: =INDEX(AR予選!$R$21:$R$22,MATCH(テーブル1114[[#This Row],[チーム名]]&3,AR予選!$T$21:$T$22,0)) -> #N/A | H7: =INDEX(テーブル1[合 計],MATCH(テーブル1114[[#This Row],[氏 名3]],テーブル1[氏 名],0)) -> #N/A | I7: =IF(テーブル1114[[#This Row],[得 点]]="","",テーブル1114[[#This Row],[得 点]]+テーブル1114[[#This Row],[得 点2]]+テーブル1114[[#This Row],[得 点3]]) -> #N/A | J7: =IF(テーブル1114[[#This Row],[合計点]]="","",_xlfn.RANK.EQ(テーブル1114[[#This Row],[合計点]],テーブル1114[合計点],1)) -> #N/A
B9: AP 男子団体戦 | D9: 46158 | E9: =WEEKDAY(D9) -> 7 | F9: 県立関有知高等学校射撃場
A10: 通番 | B10: チーム名 | C10: 氏 名 | D10: 得 点 | E10: 氏 名2 | F10: 得 点2 | G10: 氏 名3 | H10: 得 点3 | I10: 合計点 | J10: 順位
A11: 1 | B11: 済美A | C11: 徳田 恭実 | D11: =INDEX(テーブル10[合 計],MATCH(テーブル1115[[#This Row],[氏 名]],テーブル10[氏 名],0)) -> 0 | E11: 田邉陸玖 | F11: =INDEX(テーブル10[合 計],MATCH(テーブル1115[[#This Row],[氏 名2]],テーブル10[氏 名],0)) -> 0 | I11: =IF(テーブル1115[[#This Row],[得 点]]="","",テーブル1115[[#This Row],[得 点]]+テーブル1115[[#This Row],[得 点2]]) -> 0 | J11: 1
B14: BR 男子団体戦 | D14: =BR予選!C5 -> 46313 | E14: =WEEKDAY(D14) -> 1 | F14: =BR予選!E5 -> 済美高等学校射撃場
A15: 通番 | B15: チーム名 | C15: 氏 名 | D15: 得 点 | E15: 氏 名2 | F15: 得 点2 | G15: 氏 名3 | H15: 得 点3 | I15: 合計点 | J15: 順位
A16: 1 | B16: 済美A | C16: =INDEX(BR予選!$R$13:$R$28,MATCH(テーブル4[[#This Row],[チーム名]]&1,BR予選!$T$13:$T$28,0)) -> 井口 蒼太 | D16: =INDEX(テーブル3[合 計],MATCH(C16,テーブル3[氏 名],0)) -> 621.9 | E16: =INDEX(BR予選!$R$13:$R$28,MATCH(テーブル4[[#This Row],[チーム名]]&2,BR予選!$T$13:$T$28,0)) -> 加藤 凜 | F16: =INDEX(テーブル3[合 計],MATCH(E16,テーブル3[氏 名],0)) -> 627.2 | G16: =INDEX(BR予選!$R$13:$R$28,MATCH(テーブル4[[#This Row],[チーム名]]&3,BR予選!$T$13:$T$28,0)) -> 田邉 陸玖 | H16: =INDEX(テーブル3[合 計],MATCH(G16,テーブル3[氏 名],0)) -> 620.7 | I16: =IF(テーブル4[[#This Row],[得 点]]="","",テーブル4[[#This Row],[得 点]]+テーブル4[[#This Row],[得 点2]]+テーブル4[[#This Row],[得 点3]]) -> 1869.8 | J16: =IF(I16="","",RANK(I16,$I$16:$I$19)) -> 1
A17: 2 | B17: 済美B | C17: =INDEX(BR予選!$R$13:$R$28,MATCH(テーブル4[[#This Row],[チーム名]]&1,BR予選!$T$13:$T$28,0)) -> 玉木 心晴 | D17: =INDEX(テーブル3[合 計],MATCH(C17,テーブル3[氏 名],0)) -> 605.4 | E17: =INDEX(BR予選!$R$13:$R$28,MATCH(テーブル4[[#This Row],[チーム名]]&2,BR予選!$T$13:$T$28,0)) -> 福田 隆人 | F17: =INDEX(テーブル3[合 計],MATCH(E17,テーブル3[氏 名],0)) -> 618.5 | G17: =INDEX(BR予選!$R$13:$R$28,MATCH(テーブル4[[#This Row],[チーム名]]&3,BR予選!$T$13:$T$28,0)) -> 森嶋 礼真 | H17: =INDEX(テーブル3[合 計],MATCH(G17,テーブル3[氏 名],0)) -> 605 | I17: =IF(テーブル4[[#This Row],[得 点]]="","",テーブル4[[#This Row],[得 点]]+テーブル4[[#This Row],[得 点2]]+テーブル4[[#This Row],[得 点3]]) -> 1828.9 | J17: =IF(I17="","",RANK(I17,$I$16:$I$19)) -> 2
A18: 3 | B18: 関有知A | C18: =INDEX(BR予選!$R$13:$R$28,MATCH(テーブル4[[#This Row],[チーム名]]&1,BR予選!$T$13:$T$28,0)) -> 澤村 実槻 | D18: =INDEX(テーブル3[合 計],MATCH(C18,テーブル3[氏 名],0)) -> 555.4 | E18: =INDEX(BR予選!$R$13:$R$28,MATCH(テーブル4[[#This Row],[チーム名]]&2,BR予選!$T$13:$T$28,0)) -> 春日井 月暉 | F18: =INDEX(テーブル3[合 計],MATCH(E18,テーブル3[氏 名],0)) -> 620.9 | G18: =INDEX(BR予選!$R$13:$R$28,MATCH(テーブル4[[#This Row],[チーム名]]&3,BR予選!$T$13:$T$28,0)) -> 永澤 京誠 | H18: =INDEX(テーブル3[合 計],MATCH(G18,テーブル3[氏 名],0)) -> 606 | I18: =IF(テーブル4[[#This Row],[得 点]]="","",テーブル4[[#This Row],[得 点]]+テーブル4[[#This Row],[得 点2]]+テーブル4[[#This Row],[得 点3]]) -> 1782.3 | J18: =IF(I18="","",RANK(I18,$I$16:$I$19)) -> 3
A19: 4 | B19: 関有知B | C19: =INDEX(BR予選!$R$13:$R$28,MATCH(テーブル4[[#This Row],[チーム名]]&1,BR予選!$T$13:$T$28,0)) -> 岩本 武士 | D19: =INDEX(テーブル3[合 計],MATCH(C19,テーブル3[氏 名],0)) -> 0 | E19: =INDEX(BR予選!$R$13:$R$28,MATCH(テーブル4[[#This Row],[チーム名]]&2,BR予選!$T$13:$T$28,0)) -> 平田 リュウ | F19: =INDEX(テーブル3[合 計],MATCH(E19,テーブル3[氏 名],0)) -> 574.9 | G19: =INDEX(BR予選!$R$13:$R$28,MATCH(テーブル4[[#This Row],[チーム名]]&3,BR予選!$T$13:$T$28,0)) -> 辻 照永 | H19: =INDEX(テーブル3[合 計],MATCH(G19,テーブル3[氏 名],0)) -> 570.2 | I19: =IF(テーブル4[[#This Row],[得 点]]="","",テーブル4[[#This Row],[得 点]]+テーブル4[[#This Row],[得 点2]]+テーブル4[[#This Row],[得 点3]]) -> 1145.1 | J19: =IF(I19="","",RANK(I19,$I$16:$I$19)) -> 4
B22: BR 女子団体戦 | D22: 46159 | E22: =WEEKDAY(D22) -> 1 | F22: =BR予選!E5 -> 済美高等学校射撃場
A23: 通番 | B23: チーム名 | C23: 氏 名 | D23: 得 点 | E23: 氏 名2 | F23: 得 点2 | G23: 氏 名3 | H23: 得 点3 | I23: 合計点 | J23: 順位
A24: 1 | B24: 済美A | C24: =INDEX(BR予選!$R$32:$R$50,MATCH(テーブル8[[#This Row],[チーム名]]&1,BR予選!$T$32:$T$50,0)) -> 河出 菜欧美 | D24: =INDEX(テーブル5[合 計],MATCH(C24,テーブル5[氏 名],0)) -> 616.5 | E24: =INDEX(BR予選!$R$32:$R$50,MATCH(テーブル8[[#This Row],[チーム名]]&2,BR予選!$T$32:$T$50,0)) -> 田中 玲衣 | F24: =INDEX(テーブル5[合 計],MATCH(E24,テーブル5[氏 名],0)) -> 614.9 | G24: =INDEX(BR予選!$R$32:$R$50,MATCH(テーブル8[[#This Row],[チーム名]]&3,BR予選!$T$32:$T$50,0)) -> 杉山 碧依 | H24: =INDEX(テーブル5[合 計],MATCH(G24,テーブル5[氏 名],0)) -> 609.5 | I24: =IF(テーブル8[[#This Row],[得 点]]="","",テーブル8[[#This Row],[得 点]]+テーブル8[[#This Row],[得 点2]]+テーブル8[[#This Row],[得 点3]]) -> 1840.9 | J24: =IF(I24="","",RANK(I24,テーブル8[合計点],0)) -> 1
A25: 2 | B25: 済美B | C25: =INDEX(BR予選!$R$32:$R$50,MATCH(テーブル8[[#This Row],[チーム名]]&1,BR予選!$T$32:$T$50,0)) -> 杉下 百花 | D25: =INDEX(テーブル5[合 計],MATCH(C25,テーブル5[氏 名],0)) -> 605 | E25: =INDEX(BR予選!$R$32:$R$50,MATCH(テーブル8[[#This Row],[チーム名]]&2,BR予選!$T$32:$T$50,0)) -> 木田 裕乃 | F25: =INDEX(テーブル5[合 計],MATCH(E25,テーブル5[氏 名],0)) -> 603.5 | G25: =INDEX(BR予選!$R$32:$R$50,MATCH(テーブル8[[#This Row],[チーム名]]&3,BR予選!$T$32:$T$50,0)) -> 梶川 結妃 | H25: =INDEX(テーブル5[合 計],MATCH(G25,テーブル5[氏 名],0)) -> 608.1 | I25: =IF(テーブル8[[#This Row],[得 点]]="","",テーブル8[[#This Row],[得 点]]+テーブル8[[#This Row],[得 点2]]+テーブル8[[#This Row],[得 点3]]) -> 1816.6 | J25: =IF(I25="","",RANK(I25,テーブル8[合計点],0)) -> 2
A26: 3 | B26: 関有知A | C26: =INDEX(BR予選!$R$32:$R$50,MATCH(テーブル8[[#This Row],[チーム名]]&1,BR予選!$T$32:$T$50,0)) -> 吉田 実咲希 | D26: =INDEX(テーブル5[合 計],MATCH(C26,テーブル5[氏 名],0)) -> 600.4 | E26: =INDEX(BR予選!$R$32:$R$50,MATCH(テーブル8[[#This Row],[チーム名]]&2,BR予選!$T$32:$T$50,0)) -> 後藤 小日芽 | F26: =INDEX(テーブル5[合 計],MATCH(E26,テーブル5[氏 名],0)) -> 567.3 | G26: =INDEX(BR予選!$R$32:$R$50,MATCH(テーブル8[[#This Row],[チーム名]]&3,BR予選!$T$32:$T$50,0)) -> 押田 雪那 | H26: =INDEX(テーブル5[合 計],MATCH(G26,テーブル5[氏 名],0)) -> 579.5 | I26: =IF(テーブル8[[#This Row],[得 点]]="","",テーブル8[[#This Row],[得 点]]+テーブル8[[#This Row],[得 点2]]+テーブル8[[#This Row],[得 点3]]) -> 1747.2 | J26: =IF(I26="","",RANK(I26,テーブル8[合計点],0)) -> 3
A27: 5 | B27: 鶯谷A | C27: =INDEX(BR予選!$R$32:$R$50,MATCH(テーブル8[[#This Row],[チーム名]]&1,BR予選!$T$32:$T$50,0)) -> 松丸 葵 | D27: =INDEX(テーブル5[合 計],MATCH(C27,テーブル5[氏 名],0)) -> 591.7 | E27: =INDEX(BR予選!$R$32:$R$50,MATCH(テーブル8[[#This Row],[チーム名]]&2,BR予選!$T$32:$T$50,0)) -> 澤田 茉利 | F27: =INDEX(テーブル5[合 計],MATCH(E27,テーブル5[氏 名],0)) -> 501.4 | G27: =INDEX(BR予選!$R$32:$R$50,MATCH(テーブル8[[#This Row],[チーム名]]&3,BR予選!$T$32:$T$50,0)) -> 安藤 凛 | H27: =INDEX(テーブル5[合 計],MATCH(G27,テーブル5[氏 名],0)) -> 592.4 | I27: =IF(テーブル8[[#This Row],[得 点]]="","",テーブル8[[#This Row],[得 点]]+テーブル8[[#This Row],[得 点2]]+テーブル8[[#This Row],[得 点3]]) -> 1685.5 | J27: =IF(I27="","",RANK(I27,テーブル8[合計点],0)) -> 4
A28: 4 | B28: 大垣日大A | C28: =INDEX(BR予選!$R$32:$R$50,MATCH(テーブル8[[#This Row],[チーム名]]&1,BR予選!$T$32:$T$50,0)) -> 角 律希 | D28: =INDEX(テーブル5[合 計],MATCH(C28,テーブル5[氏 名],0)) -> 597.9 | E28: =INDEX(BR予選!$R$32:$R$50,MATCH(テーブル8[[#This Row],[チーム名]]&2,BR予選!$T$32:$T$50,0)) -> 山田 千結 | F28: =INDEX(テーブル5[合 計],MATCH(E28,テーブル5[氏 名],0)) -> 533.8 | G28: =INDEX(BR予選!$R$32:$R$50,MATCH(テーブル8[[#This Row],[チーム名]]&3,BR予選!$T$32:$T$50,0)) -> 小川 桜空 | H28: =INDEX(テーブル5[合 計],MATCH(G28,テーブル5[氏 名],0)) -> 530.4 | I28: =IF(テーブル8[[#This Row],[得 点]]="","",テーブル8[[#This Row],[得 点]]+テーブル8[[#This Row],[得 点2]]+テーブル8[[#This Row],[得 点3]]) -> 1662.1 | J28: =IF(I28="","",RANK(I28,テーブル8[合計点],0)) -> 5
B30: BP 男子団体戦 | D30: =D22 -> 46159 | E30: =WEEKDAY(D30) -> 1 | F30: =F22 -> 済美高等学校射撃場
A31: 通番 | B31: チーム名 | C31: 氏 名 | D31: 得 点 | E31: 氏 名2 | F31: 得 点2 | G31: 氏 名3 | H31: 得 点3 | I31: 合計点 | J31: 順位
A32: 1 | B32: 済美A | C32: =INDEX(BP予選!$T$13:$T$25,MATCH(B32&1,BP予選!$V$13:$V$25,0)) -> 德田 恭実 | D32: =INDEX(テーブル6[合 計],MATCH(C32,テーブル6[氏 名],0)) -> 543 | E32: =INDEX(BP予選!$T$13:$T$25,MATCH(テーブル9[[#This Row],[チーム名]]&2,BP予選!$V$13:$V$25,0)) -> 蓑島 康太 | F32: =INDEX(テーブル6[合 計],MATCH(E32,テーブル6[氏 名],0)) -> 505 | I32: =IF(テーブル9[[#This Row],[得 点]]="","",テーブル9[[#This Row],[得 点]]+テーブル9[[#This Row],[得 点2]]) -> 1048 | J32: =IF(I32="","",RANK(I32,テーブル9[合計点],0)) -> 1
A33: 3 | B33: 関有知A | C33: =INDEX(BP予選!$T$13:$T$25,MATCH(B33&1,BP予選!$V$13:$V$25,0)) -> 山田 流空 | D33: =INDEX(テーブル6[合 計],MATCH(C33,テーブル6[氏 名],0)) -> 485 | E33: =INDEX(BP予選!$T$13:$T$25,MATCH(テーブル9[[#This Row],[チーム名]]&2,BP予選!$V$13:$V$25,0)) -> 西村 翔真 | F33: =INDEX(テーブル6[合 計],MATCH(E33,テーブル6[氏 名],0)) -> 506 | I33: =IF(テーブル9[[#This Row],[得 点]]="","",テーブル9[[#This Row],[得 点]]+テーブル9[[#This Row],[得 点2]]) -> 991 | J33: =IF(I33="","",RANK(I33,テーブル9[合計点],0)) -> 2
A34: 4 | B34: 大垣日大A | C34: =INDEX(BP予選!$T$13:$T$25,MATCH(B34&1,BP予選!$V$13:$V$25,0)) -> 加納 陸翔 | D34: =INDEX(テーブル6[合 計],MATCH(C34,テーブル6[氏 名],0)) -> 453 | E34: =INDEX(BP予選!$T$13:$T$25,MATCH(テーブル9[[#This Row],[チーム名]]&2,BP予選!$V$13:$V$25,0)) -> 田上 力一 | F34: =INDEX(テーブル6[合 計],MATCH(E34,テーブル6[氏 名],0)) -> 497 | I34: =IF(テーブル9[[#This Row],[得 点]]="","",テーブル9[[#This Row],[得 点]]+テーブル9[[#This Row],[得 点2]]) -> 950 | J34: =IF(I34="","",RANK(I34,テーブル9[合計点],0)) -> 3
A35: 2 | B35: 郡上北A | C35: =INDEX(BP予選!$T$13:$T$25,MATCH(B35&1,BP予選!$V$13:$V$25,0)) -> 狩野 佑斗 | D35: =INDEX(テーブル6[合 計],MATCH(C35,テーブル6[氏 名],0)) -> 475 | E35: =INDEX(BP予選!$T$13:$T$25,MATCH(テーブル9[[#This Row],[チーム名]]&2,BP予選!$V$13:$V$25,0)) -> 小倉 虎太郎 | F35: =INDEX(テーブル6[合 計],MATCH(E35,テーブル6[氏 名],0)) -> 432 | I35: =IF(テーブル9[[#This Row],[得 点]]="","",テーブル9[[#This Row],[得 点]]+テーブル9[[#This Row],[得 点2]]) -> 907 | J35: =IF(I35="","",RANK(I35,テーブル9[合計点],0)) -> 4
A36: 5 | B36: 鶯谷A | C36: =INDEX(BP予選!$T$13:$T$25,MATCH(B36&1,BP予選!$V$13:$V$25,0)) -> 清原 隼 | D36: =INDEX(テーブル6[合 計],MATCH(C36,テーブル6[氏 名],0)) -> 421 | E36: =INDEX(BP予選!$T$13:$T$25,MATCH(テーブル9[[#This Row],[チーム名]]&2,BP予選!$V$13:$V$25,0)) -> 山梨 功晴 | F36: =INDEX(テーブル6[合 計],MATCH(E36,テーブル6[氏 名],0)) -> 451 | I36: =IF(テーブル9[[#This Row],[得 点]]="","",テーブル9[[#This Row],[得 点]]+テーブル9[[#This Row],[得 点2]]) -> 872 | J36: =IF(I36="","",RANK(I36,テーブル9[合計点],0)) -> 5
B38: BＰ 女子団体戦 | D38: =D22 -> 46159 | E38: =E22 -> 1 | F38: =F22 -> 済美高等学校射撃場
A39: 通番 | B39: チーム名 | C39: 氏 名 | D39: 得 点 | E39: 氏 名 | F39: 得 点 | G39: 氏 名 | H39: 得 点 | I39: 合計点 | J39: 順位
A40: 1 | B40: 大垣日大A | C40: =INDEX(BP予選!$T$29:$T$38,MATCH(B40&1,BP予選!$V$29:$V$38,0)) -> 角 律希 | D40: =INDEX(テーブル7[合 計],MATCH(C40,テーブル7[氏 名],0)) -> 513 | E40: =INDEX(BP予選!$T$29:$T$38,MATCH(B40&2,BP予選!$V$29:$V$38,0)) -> 関 希 | F40: =INDEX(テーブル7[合 計],MATCH(E40,テーブル7[氏 名],0)) -> 464 | I40: =IF(D40="","",D40+F40) -> 977 | J40: =IF(I40="","",_xlfn.RANK.AVG(I40,$I$40:$I$42,0)) -> 1
A41: 2 | B41: 大垣日大B | C41: =INDEX(BP予選!$T$29:$T$38,MATCH(B41&1,BP予選!$V$29:$V$38,0)) -> 藤江 香澄 | D41: =INDEX(テーブル7[合 計],MATCH(C41,テーブル7[氏 名],0)) -> 435 | E41: =INDEX(BP予選!$T$29:$T$38,MATCH(B41&2,BP予選!$V$29:$V$38,0)) -> 佐竹 結衣 | F41: =INDEX(テーブル7[合 計],MATCH(E41,テーブル7[氏 名],0)) -> 435 | I41: =IF(D41="","",D41+F41) -> 870 | J41: =IF(I41="","",_xlfn.RANK.AVG(I41,$I$40:$I$42,0)) -> 2
A42: 3 | B42: 鶯谷A | C42: =INDEX(BP予選!$T$29:$T$38,MATCH(B42&1,BP予選!$V$29:$V$38,0)) -> 藤井 音緒 | D42: =INDEX(テーブル7[合 計],MATCH(C42,テーブル7[氏 名],0)) -> 461 | E42: =INDEX(BP予選!$T$29:$T$38,MATCH(B42&2,BP予選!$V$29:$V$38,0)) -> 東 莉杏 | F42: =INDEX(テーブル7[合 計],MATCH(E42,テーブル7[氏 名],0)) -> 367 | I42: =IF(D42="","",D42+F42) -> 828 | J42: =IF(I42="","",_xlfn.RANK.AVG(I42,$I$40:$I$42,0)) -> 3

Sheet 新聞社報告
B1: 各位 | I1: 1枚目/2枚中
B3: 岐阜県高校総体ライフル射撃競技AR（エアライフル）・AP（エアピストル）の部成績
B4: 46312 | C4: =WEEKDAY(B4) -> 7 | D4: 県立関有知高等学校射撃場
B5: AR（エアライフル）個人
C6: 1 | D6: 位 | E6: 2 | F6: 位 | G6: 3 | H6: 位 | I6: 備考
B7: 男子 | C7: =AR予選!D14 -> 井口 蒼太 | D7: =AR予選!M14 -> 612.3 | E7: =AR予選!D15 -> 田邉 陸玖 | F7: =AR予選!M15 -> 601.8 | G7: =AR予選!D16 -> 加藤 凜 | H7: =AR予選!M16 -> 601.6
C8: =AR予選!E14 -> 済美 | E8: =AR予選!E15 -> 済美A | G8: =AR予選!E16 -> 済美A
B9: 女子 | C9: =AR予選!D21 -> 浅野 海空 | D9: =AR予選!M21 -> 623.2 | E9: =AR予選!D22 -> 田中 玲衣 | F9: =AR予選!M22 -> 570.2
C10: =AR予選!E21 -> 関有知 | E10: =AR予選!E22 -> 済美
B12: AR（エアライフル）団体
C13: 1 | D13: 位 | E13: 2 | F13: 位 | G13: 3 | H13: 位 | I13: 備考
B14: 男子 | C14: =団体戦!B3 -> 済美A | D14: =団体戦!C3 -> 加藤 凜
D15: =団体戦!E3 -> 福田 隆人
C16: =団体戦!I3 -> 1796.3 | D16: =団体戦!G3 -> 田邉 陸玖
B17: 女子 | C17: =団体戦!B7 -> 関有知A | D17: =団体戦!C7 -> #N/A
D18: =団体戦!E7 -> #N/A
D19: =団体戦!G7 -> #N/A
B21: AP（エアピストル）個人
C22: 1 | D22: 位 | E22: 2 | F22: 位 | G22: 3 | H22: 位 | I22: 備考
B23: 男子 | C23: ='AP予選 '!D13 -> 徳田 恭実 | D23: ='AP予選 '!M13 -> 0 | E23: ='AP予選 '!D14 -> 田邉陸玖 | F23: ='AP予選 '!M14 -> 0
C24: ='AP予選 '!E13 -> 済美A | E24: ='AP予選 '!E14 -> 済美A
B25: 女子
B28: AP（エアピストル）団体
C29: 1 | D29: 位 | E29: 2 | F29: 位 | G29: 3 | H29: 位 | I29: 備考
B30: 男子 | C30: =テーブル1115[チーム名] -> 済美A | D30: =テーブル1115[氏 名] -> 徳田 恭実
C31: =テーブル1115[合計点] -> 0 | D31: =テーブル1115[氏 名2] -> 田邉陸玖
B33: 連絡先 | C33: 県高体連ライフル射撃専門委員長 | F33: 石徹白 悠平 | H33: 0575-82-2073
B34: 各位 | I34: 2枚目/2枚中
B36: 岐阜県高校総体ライフル射撃競技ＢＲ（ビームライフル）・ＢＰ（ビームピストル）の部成績
B38: 46313 | C38: =WEEKDAY(B38) -> 1 | D38: =BR予選!E5 -> 済美高等学校射撃場
B40: BR（ビームライフル）団体
C41: 1 | D41: 位 | E41: 2 | F41: 位 | G41: 3 | H41: 位 | I41: 備考
B42: 男子 | C42: =団体戦!B16 -> 済美A | D42: =団体戦!C16 -> 井口 蒼太 | E42: =団体戦!B17 -> 済美B | F42: =団体戦!C17 -> 玉木 心晴 | G42: =団体戦!B18 -> 関有知A | H42: =団体戦!C18 -> 澤村 実槻
D43: =団体戦!E16 -> 加藤 凜 | F43: =団体戦!E17 -> 福田 隆人 | H43: =団体戦!E18 -> 春日井 月暉
C44: =団体戦!I16 -> 1869.8 | D44: =団体戦!G16 -> 田邉 陸玖 | E44: =団体戦!I17 -> 1828.9 | F44: =団体戦!G17 -> 森嶋 礼真 | G44: =団体戦!I18 -> 1782.3 | H44: =団体戦!G18 -> 永澤 京誠
B45: 女子 | C45: =団体戦!B24 -> 済美A | D45: =団体戦!C24 -> 河出 菜欧美 | E45: =団体戦!B25 -> 済美B | F45: =団体戦!C25 -> 杉下 百花 | G45: =団体戦!B26 -> 関有知A | H45: =団体戦!C26 -> 吉田 実咲希
D46: =団体戦!E24 -> 田中 玲衣 | F46: =団体戦!E25 -> 木田 裕乃 | H46: =団体戦!E26 -> 後藤 小日芽
C47: =団体戦!I24 -> 1840.9 | D47: =団体戦!G24 -> 杉山 碧依 | E47: =団体戦!I25 -> 1816.6 | F47: =団体戦!G25 -> 梶川 結妃 | G47: =団体戦!I26 -> 1747.2 | H47: =団体戦!G26 -> 押田 雪那
B49: BR（ビームライフル）個人
C50: 1 | D50: 位 | E50: 2 | F50: 位 | G50: 3 | H50: 位 | I50: 備考
...

Sheet 学校対抗
A1: 県総体ライフル射撃競技総合成績
C2: 学校対抗
A3: 列1 | B3: 男子 | C3: AR得点 | D3: AP得点 | E3: BR得点 | F3: BP得点 | G3: 計 | H3: 順位
A4: 2 | B4: 済美 | C4: 6 | D4: 0 | E4: 5 | F4: 5 | G4: =SUM(C4:F4) -> 16 | H4: =RANK(G4,$G$4:$G$8) -> 1
A5: 1 | B5: 関有知 | C5: 0 | D5: 0 | E5: 1 | F5: 1 | G5: =SUM(C5:F5) -> 2 | H5: =RANK(G5,$G$4:$G$8) -> 2
A6: 3 | B6: 郡上北 | C6: 0 | D6: 0 | E6: 0 | F6: 0 | G6: =SUM(C6:F6) -> 0 | H6: =RANK(G6,$G$4:$G$8) -> 3
